BEGIN:VCALENDAR
VERSION:2.0
PRODID:-//Geauga County Veterans Services - ECPv6.15.20//NONSGML v1.0//EN
CALSCALE:GREGORIAN
METHOD:PUBLISH
X-WR-CALNAME:Geauga County Veterans Services
X-ORIGINAL-URL:https://vets.co.geauga.oh.us
X-WR-CALDESC:Events for Geauga County Veterans Services
REFRESH-INTERVAL;VALUE=DURATION:PT1H
X-Robots-Tag:noindex
X-PUBLISHED-TTL:PT1H
BEGIN:VTIMEZONE
TZID:America/New_York
BEGIN:DAYLIGHT
TZOFFSETFROM:-0500
TZOFFSETTO:-0400
TZNAME:EDT
DTSTART:20220313T070000
END:DAYLIGHT
BEGIN:STANDARD
TZOFFSETFROM:-0400
TZOFFSETTO:-0500
TZNAME:EST
DTSTART:20221106T060000
END:STANDARD
BEGIN:DAYLIGHT
TZOFFSETFROM:-0500
TZOFFSETTO:-0400
TZNAME:EDT
DTSTART:20230312T070000
END:DAYLIGHT
BEGIN:STANDARD
TZOFFSETFROM:-0400
TZOFFSETTO:-0500
TZNAME:EST
DTSTART:20231105T060000
END:STANDARD
BEGIN:DAYLIGHT
TZOFFSETFROM:-0500
TZOFFSETTO:-0400
TZNAME:EDT
DTSTART:20240310T070000
END:DAYLIGHT
BEGIN:STANDARD
TZOFFSETFROM:-0400
TZOFFSETTO:-0500
TZNAME:EST
DTSTART:20241103T060000
END:STANDARD
BEGIN:DAYLIGHT
TZOFFSETFROM:-0500
TZOFFSETTO:-0400
TZNAME:EDT
DTSTART:20250309T070000
END:DAYLIGHT
BEGIN:STANDARD
TZOFFSETFROM:-0400
TZOFFSETTO:-0500
TZNAME:EST
DTSTART:20251102T060000
END:STANDARD
BEGIN:DAYLIGHT
TZOFFSETFROM:-0500
TZOFFSETTO:-0400
TZNAME:EDT
DTSTART:20260308T070000
END:DAYLIGHT
BEGIN:STANDARD
TZOFFSETFROM:-0400
TZOFFSETTO:-0500
TZNAME:EST
DTSTART:20261101T060000
END:STANDARD
END:VTIMEZONE
BEGIN:VEVENT
DTSTART;TZID=America/New_York:20231205T150000
DTEND;TZID=America/New_York:20231205T160000
DTSTAMP:20260425T123658
CREATED:20231122T143223Z
LAST-MODIFIED:20231122T143229Z
UID:4550-1701788400-1701792000@vets.co.geauga.oh.us
SUMMARY:Veteran's Commissioner Meeting
DESCRIPTION:Meeting is on the first Tuesday of each month.
URL:https://vets.co.geauga.oh.us/event/veterans-commissioner-meeting/
LOCATION:Veterans Office\, 12611 Ravenwood Dr\, Chardon\, OH\, 44024\, United States
END:VEVENT
BEGIN:VEVENT
DTSTART;TZID=America/New_York:20231205T150000
DTEND;TZID=America/New_York:20231205T160000
DTSTAMP:20260425T123658
CREATED:20231205T080020Z
LAST-MODIFIED:20231122T142908Z
UID:4548-1701788400-1701792000@vets.co.geauga.oh.us
SUMMARY:Veterans Commissioners Meeting
DESCRIPTION:meeting is at 3:00 pm the first Tuesday of every month.
URL:https://vets.co.geauga.oh.us/event/veterans-commissioners-meeting/
LOCATION:Veterans Office\, 12611 Ravenwood Dr\, Chardon\, OH\, 44024\, United States
END:VEVENT
BEGIN:VEVENT
DTSTART;TZID=America/New_York:20231221T150000
DTEND;TZID=America/New_York:20231221T160000
DTSTAMP:20260425T123658
CREATED:20231218T133726Z
LAST-MODIFIED:20231218T133731Z
UID:4575-1703170800-1703174400@vets.co.geauga.oh.us
SUMMARY:Special Meeting
DESCRIPTION:
URL:https://vets.co.geauga.oh.us/event/special-meeting/
END:VEVENT
BEGIN:VEVENT
DTSTART;VALUE=DATE:20231225
DTEND;VALUE=DATE:20231226
DTSTAMP:20260425T123658
CREATED:20231122T145543Z
LAST-MODIFIED:20231122T145547Z
UID:4568-1703462400-1703548799@vets.co.geauga.oh.us
SUMMARY:Merry Christmas
DESCRIPTION:Office is closed.
URL:https://vets.co.geauga.oh.us/event/merry-christmas/
LOCATION:Veterans Office\, 12611 Ravenwood Dr\, Chardon\, OH\, 44024\, United States
END:VEVENT
BEGIN:VEVENT
DTSTART;VALUE=DATE:20231226
DTEND;VALUE=DATE:20231227
DTSTAMP:20260425T123658
CREATED:20231122T145843Z
LAST-MODIFIED:20231122T150302Z
UID:4570-1703548800-1703635199@vets.co.geauga.oh.us
SUMMARY:Office is Closed
DESCRIPTION:Office is CLOSED \nWill reopen Monday December 7th normal business hours.
URL:https://vets.co.geauga.oh.us/event/4570/
LOCATION:Veterans Office\, 12611 Ravenwood Dr\, Chardon\, OH\, 44024\, United States
END:VEVENT
BEGIN:VEVENT
DTSTART;TZID=America/New_York:20240109T150000
DTEND;TZID=America/New_York:20240109T160000
DTSTAMP:20260425T123658
CREATED:20231122T145119Z
LAST-MODIFIED:20231122T145134Z
UID:4562-1704812400-1704816000@vets.co.geauga.oh.us
SUMMARY:Veteran's Commissioners Meeting
DESCRIPTION:The meeting is the first Tuesday of the month unless it falls on a holiday.
URL:https://vets.co.geauga.oh.us/event/veterans-commissioners-meeting-2/
LOCATION:Veterans Office\, 12611 Ravenwood Dr\, Chardon\, OH\, 44024\, United States
END:VEVENT
BEGIN:VEVENT
DTSTART;TZID=America/New_York:20240202T080000
DTEND;TZID=America/New_York:20240202T170000
DTSTAMP:20260425T123658
CREATED:20240202T134839Z
LAST-MODIFIED:20240202T134842Z
UID:4594-1706860800-1706893200@vets.co.geauga.oh.us
SUMMARY:Phones are down please stop in or email us.
DESCRIPTION:
URL:https://vets.co.geauga.oh.us/event/phones-are-down-please-stop-in-or-email-us/
END:VEVENT
BEGIN:VEVENT
DTSTART;TZID=America/New_York:20240206T150000
DTEND;TZID=America/New_York:20240206T160000
DTSTAMP:20260425T123658
CREATED:20231122T143625Z
LAST-MODIFIED:20231122T143630Z
UID:4554-1707231600-1707235200@vets.co.geauga.oh.us
SUMMARY:Veteran's Commissioner Meeting
DESCRIPTION:The meeting is the first Tuesday of the month unless it falls on a holiday.
URL:https://vets.co.geauga.oh.us/event/veterans-commissioner-meeting-3/
END:VEVENT
BEGIN:VEVENT
DTSTART;TZID=America/New_York:20240305T150000
DTEND;TZID=America/New_York:20240305T160000
DTSTAMP:20260425T123658
CREATED:20231122T143746Z
LAST-MODIFIED:20231122T143752Z
UID:4556-1709650800-1709654400@vets.co.geauga.oh.us
SUMMARY:Veteran's Commissioner Meeting
DESCRIPTION:The meeting is the first Tuesday of the month unless it falls on a holiday.
URL:https://vets.co.geauga.oh.us/event/veterans-commissioner-meeting-4/
LOCATION:Veterans Office\, 12611 Ravenwood Dr\, Chardon\, OH\, 44024\, United States
END:VEVENT
BEGIN:VEVENT
DTSTART;TZID=America/New_York:20240402T150000
DTEND;TZID=America/New_York:20240402T160000
DTSTAMP:20260425T123658
CREATED:20231122T144222Z
LAST-MODIFIED:20231122T144227Z
UID:4558-1712070000-1712073600@vets.co.geauga.oh.us
SUMMARY:Veteran's Commissioner Meeting
DESCRIPTION:The meeting is the first Tuesday of the month unless it falls on a holiday.
URL:https://vets.co.geauga.oh.us/event/veterans-commissioner-meeting-5/
LOCATION:Veterans Office\, 12611 Ravenwood Dr\, Chardon\, OH\, 44024\, United States
END:VEVENT
BEGIN:VEVENT
DTSTART;TZID=America/New_York:20240406T100000
DTEND;TZID=America/New_York:20240407T170000
DTSTAMP:20260425T123658
CREATED:20240405T123154Z
LAST-MODIFIED:20240405T123159Z
UID:4625-1712397600-1712509200@vets.co.geauga.oh.us
SUMMARY:Piston Power Auto Show- IX Center
DESCRIPTION:
URL:https://vets.co.geauga.oh.us/event/piston-power-auto-show-ix-center/
END:VEVENT
BEGIN:VEVENT
DTSTART;VALUE=DATE:20240408
DTEND;VALUE=DATE:20240409
DTSTAMP:20260425T123658
CREATED:20240405T122912Z
LAST-MODIFIED:20240405T122918Z
UID:4623-1712534400-1712620799@vets.co.geauga.oh.us
SUMMARY:Office Closed - Solor Eclipse
DESCRIPTION:
URL:https://vets.co.geauga.oh.us/event/office-closed-solor-eclipse/
END:VEVENT
BEGIN:VEVENT
DTSTART;TZID=America/New_York:20240507T150000
DTEND;TZID=America/New_York:20240507T160000
DTSTAMP:20260425T123658
CREATED:20231122T144333Z
LAST-MODIFIED:20231122T144344Z
UID:4560-1715094000-1715097600@vets.co.geauga.oh.us
SUMMARY:Veteran's Commissioner Meeting
DESCRIPTION:The meeting is the first Tuesday of the month unless it falls on a holiday.
URL:https://vets.co.geauga.oh.us/event/veterans-commissioner-meeting-6/
LOCATION:Veterans Office\, 12611 Ravenwood Dr\, Chardon\, OH\, 44024\, United States
END:VEVENT
BEGIN:VEVENT
DTSTART;TZID=America/New_York:20240523T090000
DTEND;TZID=America/New_York:20240523T130000
DTSTAMP:20260425T123658
CREATED:20240403T183541Z
LAST-MODIFIED:20240403T183557Z
UID:4604-1716454800-1716469200@vets.co.geauga.oh.us
SUMMARY:Plant Flags for Memorial Day
DESCRIPTION:
URL:https://vets.co.geauga.oh.us/event/plant-flags-for-memorial-day/
END:VEVENT
BEGIN:VEVENT
DTSTART;TZID=America/New_York:20240529T090000
DTEND;TZID=America/New_York:20240529T130000
DTSTAMP:20260425T123658
CREATED:20240405T123407Z
LAST-MODIFIED:20240405T123414Z
UID:4627-1716973200-1716987600@vets.co.geauga.oh.us
SUMMARY:Remove Flags From All Souls Cemetery
DESCRIPTION:Remove flags we put up for Memorial Day
URL:https://vets.co.geauga.oh.us/event/remove-flags-from-all-souls-cemetery/
END:VEVENT
BEGIN:VEVENT
DTSTART;TZID=America/New_York:20240604T150000
DTEND;TZID=America/New_York:20240604T160000
DTSTAMP:20260425T123658
CREATED:20231122T145318Z
LAST-MODIFIED:20231122T145323Z
UID:4564-1717513200-1717516800@vets.co.geauga.oh.us
SUMMARY:Veteran's Commissioner Meeting
DESCRIPTION:The meeting is the first Tuesday of the month unless it falls on a holiday.
URL:https://vets.co.geauga.oh.us/event/veterans-commissioner-meeting-7/
LOCATION:Veterans Office\, 12611 Ravenwood Dr\, Chardon\, OH\, 44024\, United States
END:VEVENT
BEGIN:VEVENT
DTSTART;TZID=America/New_York:20240620T150000
DTEND;TZID=America/New_York:20240620T160000
DTSTAMP:20260425T123658
CREATED:20240617T194106Z
LAST-MODIFIED:20240617T194323Z
UID:4646-1718895600-1718899200@vets.co.geauga.oh.us
SUMMARY:Veterans Commissioner Special Meeting
DESCRIPTION:Approval of bills
URL:https://vets.co.geauga.oh.us/event/special-meeting-2/
LOCATION:Veterans Office\, 12611 Ravenwood Dr\, Chardon\, OH\, 44024\, United States
END:VEVENT
BEGIN:VEVENT
DTSTART;TZID=America/New_York:20240702T150000
DTEND;TZID=America/New_York:20240702T160000
DTSTAMP:20260425T123658
CREATED:20231122T145446Z
LAST-MODIFIED:20231122T145451Z
UID:4566-1719932400-1719936000@vets.co.geauga.oh.us
SUMMARY:Veteran's Commissioner Meeting
DESCRIPTION:The meeting is the first Tuesday of the month unless it falls on a holiday.
URL:https://vets.co.geauga.oh.us/event/veterans-commissioner-meeting-8/
LOCATION:Veterans Office\, 12611 Ravenwood Dr\, Chardon\, OH\, 44024\, United States
END:VEVENT
BEGIN:VEVENT
DTSTART;TZID=America/New_York:20240731T160000
DTEND;TZID=America/New_York:20240731T180000
DTSTAMP:20260425T123658
CREATED:20240403T183159Z
LAST-MODIFIED:20240405T130418Z
UID:4602-1722441600-1722448800@vets.co.geauga.oh.us
SUMMARY:Veterans Outreach Fair
DESCRIPTION:At Veterans Legacy Woods Park \non 44 South on left hand side of road
URL:https://vets.co.geauga.oh.us/event/veterans-outreach-fair/
END:VEVENT
BEGIN:VEVENT
DTSTART;TZID=America/New_York:20240812T150000
DTEND;TZID=America/New_York:20240812T160000
DTSTAMP:20260425T123658
CREATED:20240808T164402Z
LAST-MODIFIED:20240808T164407Z
UID:4662-1723474800-1723478400@vets.co.geauga.oh.us
SUMMARY:Monthly Meeting moved to August 12\, 2024 at 3:00pm
DESCRIPTION:
URL:https://vets.co.geauga.oh.us/event/monthly-meeting-moved-to-august-12-2024-at-300pm/
LOCATION:Veterans Office\, 12611 Ravenwood Dr\, Chardon\, OH\, 44024\, United States
END:VEVENT
BEGIN:VEVENT
DTSTART;VALUE=DATE:20240830
DTEND;VALUE=DATE:20240831
DTSTAMP:20260425T123658
CREATED:20240405T125842Z
LAST-MODIFIED:20240405T125847Z
UID:4629-1724976000-1725062399@vets.co.geauga.oh.us
SUMMARY:Office Closed
DESCRIPTION:We are at the Geauga County Fairgrounds \nFrom 8:00 am to 4:00 pm
URL:https://vets.co.geauga.oh.us/event/office-closed-3/
END:VEVENT
BEGIN:VEVENT
DTSTART;TZID=America/New_York:20241014T080000
DTEND;TZID=America/New_York:20241014T160000
DTSTAMP:20260425T123658
CREATED:20241003T122707Z
LAST-MODIFIED:20241003T122714Z
UID:4683-1728892800-1728921600@vets.co.geauga.oh.us
SUMMARY:Office Closed
DESCRIPTION:Columbus Day
URL:https://vets.co.geauga.oh.us/event/office-closed-4/
LOCATION:Veterans Office\, 12611 Ravenwood Dr\, Chardon\, OH\, 44024\, United States
END:VEVENT
BEGIN:VEVENT
DTSTART;TZID=America/New_York:20241111T080000
DTEND;TZID=America/New_York:20241111T160000
DTSTAMP:20260425T123658
CREATED:20241003T122909Z
LAST-MODIFIED:20241003T122915Z
UID:4685-1731312000-1731340800@vets.co.geauga.oh.us
SUMMARY:Office Closed
DESCRIPTION:Happy Veterans Day
URL:https://vets.co.geauga.oh.us/event/office-closed-5/
END:VEVENT
BEGIN:VEVENT
DTSTART;TZID=America/New_York:20241225T080000
DTEND;TZID=America/New_York:20241225T160000
DTSTAMP:20260425T123658
CREATED:20241003T123159Z
LAST-MODIFIED:20241003T123206Z
UID:4689-1735113600-1735142400@vets.co.geauga.oh.us
SUMMARY:Christmas Office Closed
DESCRIPTION:
URL:https://vets.co.geauga.oh.us/event/christmas-office-closed/
END:VEVENT
BEGIN:VEVENT
DTSTART;TZID=America/New_York:20250101T080000
DTEND;TZID=America/New_York:20250101T160000
DTSTAMP:20260425T123658
CREATED:20241003T123310Z
LAST-MODIFIED:20241003T123317Z
UID:4691-1735718400-1735747200@vets.co.geauga.oh.us
SUMMARY:Happy New Year Office Closed
DESCRIPTION:
URL:https://vets.co.geauga.oh.us/event/happy-new-year-office-closed/
END:VEVENT
BEGIN:VEVENT
DTSTART;TZID=America/New_York:20250209T080000
DTEND;TZID=America/New_York:20250209T120000
DTSTAMP:20260425T123658
CREATED:20250203T172924Z
LAST-MODIFIED:20250203T172935Z
UID:4758-1739088000-1739102400@vets.co.geauga.oh.us
SUMMARY:Pancake Breakfast at Chardon VFW
DESCRIPTION:
URL:https://vets.co.geauga.oh.us/event/pancake-breakfast-at-chardon-vfw/
LOCATION:Chardon VFW Post 1659\, 724 Water St\, Chardon\, OH\, 44024\, United States
END:VEVENT
BEGIN:VEVENT
DTSTART;TZID=America/New_York:20250209T090000
DTEND;TZID=America/New_York:20250209T130000
DTSTAMP:20260425T123658
CREATED:20250203T194050Z
LAST-MODIFIED:20250203T201301Z
UID:4780-1739091600-1739106000@vets.co.geauga.oh.us
SUMMARY:Pancake Breakfast @ Burton American Legion
DESCRIPTION:$10.00 Adults \n$5.00 Children ages 7-13 \nChildren under 6 eat free
URL:https://vets.co.geauga.oh.us/event/pancake-breakfast-burton-american-legion/
LOCATION:Burton American Legion\, 14052 Goodwin St\, Burton\, Ohio\, 44021
END:VEVENT
BEGIN:VEVENT
DTSTART;TZID=America/New_York:20250216T080000
DTEND;TZID=America/New_York:20250216T120000
DTSTAMP:20260425T123658
CREATED:20250203T174212Z
LAST-MODIFIED:20250203T174223Z
UID:4766-1739692800-1739707200@vets.co.geauga.oh.us
SUMMARY:Pancake Breakfast at Chardon VFW
DESCRIPTION:
URL:https://vets.co.geauga.oh.us/event/pancake-breakfast-at-chardon-vfw-3/
LOCATION:Chardon VFW Post 1659\, 724 Water St\, Chardon\, OH\, 44024\, United States
END:VEVENT
BEGIN:VEVENT
DTSTART;TZID=America/New_York:20250216T090000
DTEND;TZID=America/New_York:20250216T130000
DTSTAMP:20260425T123658
CREATED:20250203T201434Z
LAST-MODIFIED:20250203T201443Z
UID:4784-1739696400-1739710800@vets.co.geauga.oh.us
SUMMARY:Pancake Breakfast @ Burton American Legion
DESCRIPTION:$10.00 Adults \n$5.00 Children ages 7-13 \nChildren under 6 eat free
URL:https://vets.co.geauga.oh.us/event/pancake-breakfast-burton-american-legion-2/
LOCATION:Burton American Legion\, 14052 Goodwin St\, Burton\, Ohio\, 44021
END:VEVENT
BEGIN:VEVENT
DTSTART;TZID=America/New_York:20250217T080000
DTEND;TZID=America/New_York:20250217T160000
DTSTAMP:20260425T123658
CREATED:20250203T190544Z
LAST-MODIFIED:20250203T190554Z
UID:4778-1739779200-1739808000@vets.co.geauga.oh.us
SUMMARY:Presidents Day - Office Closed
DESCRIPTION:
URL:https://vets.co.geauga.oh.us/event/presidents-day-office-closed/
LOCATION:Veterans Office\, 12611 Ravenwood Dr\, Chardon\, OH\, 44024\, United States
END:VEVENT
END:VCALENDAR