BEGIN:VCALENDAR
VERSION:2.0
PRODID:-//Geauga County Veterans Services - ECPv6.15.20//NONSGML v1.0//EN
CALSCALE:GREGORIAN
METHOD:PUBLISH
X-WR-CALNAME:Geauga County Veterans Services
X-ORIGINAL-URL:https://vets.co.geauga.oh.us
X-WR-CALDESC:Events for Geauga County Veterans Services
REFRESH-INTERVAL;VALUE=DURATION:PT1H
X-Robots-Tag:noindex
X-PUBLISHED-TTL:PT1H
BEGIN:VTIMEZONE
TZID:America/New_York
BEGIN:DAYLIGHT
TZOFFSETFROM:-0500
TZOFFSETTO:-0400
TZNAME:EDT
DTSTART:20240310T070000
END:DAYLIGHT
BEGIN:STANDARD
TZOFFSETFROM:-0400
TZOFFSETTO:-0500
TZNAME:EST
DTSTART:20241103T060000
END:STANDARD
BEGIN:DAYLIGHT
TZOFFSETFROM:-0500
TZOFFSETTO:-0400
TZNAME:EDT
DTSTART:20250309T070000
END:DAYLIGHT
BEGIN:STANDARD
TZOFFSETFROM:-0400
TZOFFSETTO:-0500
TZNAME:EST
DTSTART:20251102T060000
END:STANDARD
BEGIN:DAYLIGHT
TZOFFSETFROM:-0500
TZOFFSETTO:-0400
TZNAME:EDT
DTSTART:20260308T070000
END:DAYLIGHT
BEGIN:STANDARD
TZOFFSETFROM:-0400
TZOFFSETTO:-0500
TZNAME:EST
DTSTART:20261101T060000
END:STANDARD
BEGIN:DAYLIGHT
TZOFFSETFROM:-0500
TZOFFSETTO:-0400
TZNAME:EDT
DTSTART:20270314T070000
END:DAYLIGHT
BEGIN:STANDARD
TZOFFSETFROM:-0400
TZOFFSETTO:-0500
TZNAME:EST
DTSTART:20271107T060000
END:STANDARD
END:VTIMEZONE
BEGIN:VEVENT
DTSTART;TZID=America/New_York:20251011T160000
DTEND;TZID=America/New_York:20251011T190000
DTSTAMP:20260424T083319
CREATED:20250929T150658Z
LAST-MODIFIED:20250929T151144Z
UID:5052-1760198400-1760209200@vets.co.geauga.oh.us
SUMMARY:American Legion Post 663 - PIG ROAST
DESCRIPTION:TICKETS: $15.00 at the Door\, $12.00 Advance Sale Tickets \nTo-Go Orders Available \nHomemade Pie Auction and 50/50 Raffle \nFor Tickets and Information: CALL (440) 635-6536 \nLOCATION: Newbury American Legion & Auxillary Post #663 \nHunter Pavilion \n11008 Kinsman Rd.\, Newbury\, Ohio 44065
URL:https://vets.co.geauga.oh.us/event/american-legion-post-663-pig-roast/
LOCATION:Newbury American Legion\, 11008 Kinsman Rd\, Newbury\, oh\, 44065
END:VEVENT
BEGIN:VEVENT
DTSTART;TZID=America/New_York:20251013T080000
DTEND;TZID=America/New_York:20251013T170000
DTSTAMP:20260424T083319
CREATED:20250918T134520Z
LAST-MODIFIED:20250918T134528Z
UID:5046-1760342400-1760374800@vets.co.geauga.oh.us
SUMMARY:Office Closed - Columbus Day
DESCRIPTION:
URL:https://vets.co.geauga.oh.us/event/office-closed-columbus-day/
END:VEVENT
BEGIN:VEVENT
DTSTART;TZID=America/New_York:20251013T193000
DTEND;TZID=America/New_York:20251013T203000
DTSTAMP:20260424T083319
CREATED:20250411T144806Z
LAST-MODIFIED:20250411T144815Z
UID:4933-1760383800-1760387400@vets.co.geauga.oh.us
SUMMARY:Newbury American Legion Post 633 Meeting
DESCRIPTION:
URL:https://vets.co.geauga.oh.us/event/newbury-american-legion-post-633-meeting-9/
LOCATION:Newbury American Legion\, 11008 Kinsman Rd\, Newbury\, oh\, 44065
END:VEVENT
BEGIN:VEVENT
DTSTART;TZID=America/New_York:20251014T193000
DTEND;TZID=America/New_York:20251014T203000
DTSTAMP:20260424T083319
CREATED:20250411T174625Z
LAST-MODIFIED:20250411T174632Z
UID:5002-1760470200-1760473800@vets.co.geauga.oh.us
SUMMARY:Burton American Legion Post #459
DESCRIPTION:
URL:https://vets.co.geauga.oh.us/event/burton-american-legion-post-459-5/
LOCATION:Burton American Legion Post #459\, 14052 Goodwin St\, Burton\, Oh\, 44021
END:VEVENT
BEGIN:VEVENT
DTSTART;TZID=America/New_York:20251027T193000
DTEND;TZID=America/New_York:20251027T203000
DTSTAMP:20260424T083319
CREATED:20250411T152454Z
LAST-MODIFIED:20250411T152506Z
UID:4945-1761593400-1761597000@vets.co.geauga.oh.us
SUMMARY:Newbury American Legion Post 633 Meeting
DESCRIPTION:
URL:https://vets.co.geauga.oh.us/event/newbury-american-legion-post-633-meeting-13/
LOCATION:Newbury American Legion\, 11008 Kinsman Rd\, Newbury\, oh\, 44065
END:VEVENT
BEGIN:VEVENT
DTSTART;TZID=America/New_York:20251028T193000
DTEND;TZID=America/New_York:20251028T203000
DTSTAMP:20260424T083319
CREATED:20250411T174845Z
LAST-MODIFIED:20250411T174854Z
UID:5004-1761679800-1761683400@vets.co.geauga.oh.us
SUMMARY:Burton American Legion Post #459
DESCRIPTION:
URL:https://vets.co.geauga.oh.us/event/burton-american-legion-post-459-6/
LOCATION:Burton American Legion Post #459\, 14052 Goodwin St\, Burton\, Oh\, 44021
END:VEVENT
BEGIN:VEVENT
DTSTART;TZID=America/New_York:20251104T150000
DTEND;TZID=America/New_York:20251104T160000
DTSTAMP:20260424T083319
CREATED:20250317T174857Z
LAST-MODIFIED:20250317T174905Z
UID:4810-1762268400-1762272000@vets.co.geauga.oh.us
SUMMARY:Veterans Service Commission Meeting
DESCRIPTION:
URL:https://vets.co.geauga.oh.us/event/veterans-service-commission-meeting-7/
END:VEVENT
BEGIN:VEVENT
DTSTART;TZID=America/New_York:20251106T190000
DTEND;TZID=America/New_York:20251106T200000
DTSTAMP:20260424T083319
CREATED:20250411T163308Z
LAST-MODIFIED:20250411T163315Z
UID:4967-1762455600-1762459200@vets.co.geauga.oh.us
SUMMARY:Chardon VFW Post 6519
DESCRIPTION:Regular Member Meeting
URL:https://vets.co.geauga.oh.us/event/chardon-vfw-post-6519-5/
LOCATION:Chardon VFW Post 1659\, 724 Water St\, Chardon\, OH\, 44024\, United States
END:VEVENT
BEGIN:VEVENT
DTSTART;TZID=America/New_York:20251110T193000
DTEND;TZID=America/New_York:20251110T203000
DTSTAMP:20260424T083319
CREATED:20250411T145014Z
LAST-MODIFIED:20250411T145031Z
UID:4937-1762803000-1762806600@vets.co.geauga.oh.us
SUMMARY:Newbury American Legion Post 633 Meeting
DESCRIPTION:
URL:https://vets.co.geauga.oh.us/event/newbury-american-legion-post-633-meeting-10/
LOCATION:Newbury American Legion\, 11008 Kinsman Rd\, Newbury\, oh\, 44065
END:VEVENT
BEGIN:VEVENT
DTSTART;VALUE=DATE:20251111
DTEND;VALUE=DATE:20251112
DTSTAMP:20260424T083319
CREATED:20250411T163625Z
LAST-MODIFIED:20250411T164040Z
UID:4969-1762819200-1762905599@vets.co.geauga.oh.us
SUMMARY:Office Closed for Veterans Day
DESCRIPTION:Office is closed in observance for Veterans Day
URL:https://vets.co.geauga.oh.us/event/office-closed-for-veterans-day/
LOCATION:Veterans Office\, 12611 Ravenwood Dr\, Chardon\, OH\, 44024\, United States
END:VEVENT
BEGIN:VEVENT
DTSTART;TZID=America/New_York:20251124T193000
DTEND;TZID=America/New_York:20251124T203000
DTSTAMP:20260424T083319
CREATED:20250411T145243Z
LAST-MODIFIED:20250411T145256Z
UID:4941-1764012600-1764016200@vets.co.geauga.oh.us
SUMMARY:Newbury American Legion Post 633 Meeting
DESCRIPTION:
URL:https://vets.co.geauga.oh.us/event/newbury-american-legion-post-633-meeting-12/
LOCATION:Newbury American Legion\, 11008 Kinsman Rd\, Newbury\, oh\, 44065
END:VEVENT
BEGIN:VEVENT
DTSTART;TZID=America/New_York:20251125T193000
DTEND;TZID=America/New_York:20251125T203000
DTSTAMP:20260424T083319
CREATED:20250411T174256Z
LAST-MODIFIED:20250411T174442Z
UID:5000-1764099000-1764102600@vets.co.geauga.oh.us
SUMMARY:Burton American Legion Post #459
DESCRIPTION:
URL:https://vets.co.geauga.oh.us/event/burton-american-legion-post-459-4/
LOCATION:Burton American Legion Post #459\, 14052 Goodwin St\, Burton\, Oh\, 44021
END:VEVENT
BEGIN:VEVENT
DTSTART;VALUE=DATE:20251127
DTEND;VALUE=DATE:20251129
DTSTAMP:20260424T083319
CREATED:20250409T170658Z
LAST-MODIFIED:20250409T170713Z
UID:4852-1764201600-1764374399@vets.co.geauga.oh.us
SUMMARY:Office Closed
DESCRIPTION:Office is closed in observance of the Thanksgiving holiday
URL:https://vets.co.geauga.oh.us/event/office-closed-10/
END:VEVENT
BEGIN:VEVENT
DTSTART;TZID=America/New_York:20251202T150000
DTEND;TZID=America/New_York:20251202T160000
DTSTAMP:20260424T083319
CREATED:20250317T175051Z
LAST-MODIFIED:20250317T175100Z
UID:4812-1764687600-1764691200@vets.co.geauga.oh.us
SUMMARY:Veterans Service Commission Meeting
DESCRIPTION:
URL:https://vets.co.geauga.oh.us/event/veterans-service-commission-meeting-8/
END:VEVENT
BEGIN:VEVENT
DTSTART;TZID=America/New_York:20251204T190000
DTEND;TZID=America/New_York:20251204T200000
DTSTAMP:20260424T083319
CREATED:20250411T165522Z
LAST-MODIFIED:20250411T165530Z
UID:4971-1764874800-1764878400@vets.co.geauga.oh.us
SUMMARY:Chardon VFW Post 6519
DESCRIPTION:Regular member meeting
URL:https://vets.co.geauga.oh.us/event/chardon-vfw-post-6519-6/
LOCATION:Chardon VFW Post 1659\, 724 Water St\, Chardon\, OH\, 44024\, United States
END:VEVENT
BEGIN:VEVENT
DTSTART;TZID=America/New_York:20251208T193000
DTEND;TZID=America/New_York:20251208T203000
DTSTAMP:20260424T083319
CREATED:20250411T152746Z
LAST-MODIFIED:20250411T152803Z
UID:4947-1765222200-1765225800@vets.co.geauga.oh.us
SUMMARY:Newbury American Legion Post 633 Meeting
DESCRIPTION:
URL:https://vets.co.geauga.oh.us/event/newbury-american-legion-post-633-meeting-14/
LOCATION:Newbury American Legion\, 11008 Kinsman Rd\, Newbury\, oh\, 44065
END:VEVENT
BEGIN:VEVENT
DTSTART;TZID=America/New_York:20251209T193000
DTEND;TZID=America/New_York:20251209T203000
DTSTAMP:20260424T083319
CREATED:20250411T175054Z
LAST-MODIFIED:20250411T175110Z
UID:5006-1765308600-1765312200@vets.co.geauga.oh.us
SUMMARY:Burton American Legion Post #459
DESCRIPTION:
URL:https://vets.co.geauga.oh.us/event/burton-american-legion-post-459-7/
LOCATION:Burton American Legion Post #459\, 14052 Goodwin St\, Burton\, Oh\, 44021
END:VEVENT
BEGIN:VEVENT
DTSTART;TZID=America/New_York:20251222T193000
DTEND;TZID=America/New_York:20251222T203000
DTSTAMP:20260424T083319
CREATED:20250411T155200Z
LAST-MODIFIED:20250411T155209Z
UID:4951-1766431800-1766435400@vets.co.geauga.oh.us
SUMMARY:Newbury American Legion Post 633 Meeting
DESCRIPTION:
URL:https://vets.co.geauga.oh.us/event/newbury-american-legion-post-633-meeting-16/
LOCATION:Newbury American Legion\, 11008 Kinsman Rd\, Newbury\, oh\, 44065
END:VEVENT
BEGIN:VEVENT
DTSTART;TZID=America/New_York:20251223T193000
DTEND;TZID=America/New_York:20251223T203000
DTSTAMP:20260424T083319
CREATED:20250411T175252Z
LAST-MODIFIED:20250411T175259Z
UID:5008-1766518200-1766521800@vets.co.geauga.oh.us
SUMMARY:Burton American Legion Post #459
DESCRIPTION:
URL:https://vets.co.geauga.oh.us/event/burton-american-legion-post-459-8/
LOCATION:Burton American Legion Post #459\, 14052 Goodwin St\, Burton\, Oh\, 44021
END:VEVENT
BEGIN:VEVENT
DTSTART;VALUE=DATE:20251224
DTEND;VALUE=DATE:20251227
DTSTAMP:20260424T083319
CREATED:20250411T165928Z
LAST-MODIFIED:20251216T164836Z
UID:4975-1766534400-1766793599@vets.co.geauga.oh.us
SUMMARY:Holiday Office Closed
DESCRIPTION:In observance of Christmas Holiday our office is closed
URL:https://vets.co.geauga.oh.us/event/holiday-office-closed/
LOCATION:Veterans Office\, 12611 Ravenwood Dr\, Chardon\, OH\, 44024\, United States
END:VEVENT
BEGIN:VEVENT
DTSTART;TZID=America/New_York:20251224T080000
DTEND;TZID=America/New_York:20251224T160000
DTSTAMP:20260424T083319
CREATED:20250411T165711Z
LAST-MODIFIED:20251216T164734Z
UID:4973-1766563200-1766592000@vets.co.geauga.oh.us
SUMMARY:Office Closed
DESCRIPTION:Office will be closed in observance for Christmas
URL:https://vets.co.geauga.oh.us/event/office-closed-half-day/
LOCATION:Veterans Office\, 12611 Ravenwood Dr\, Chardon\, OH\, 44024\, United States
END:VEVENT
BEGIN:VEVENT
DTSTART;VALUE=DATE:20251231
DTEND;VALUE=DATE:20260101
DTSTAMP:20260424T083319
CREATED:20250411T170237Z
LAST-MODIFIED:20250411T170255Z
UID:4979-1767139200-1767225599@vets.co.geauga.oh.us
SUMMARY:Holiday Office Closed at Noon
DESCRIPTION:In observance for the holiday we are closing half a day
URL:https://vets.co.geauga.oh.us/event/holiday-office-closed-at-noon/
LOCATION:Veterans Office\, 12611 Ravenwood Dr\, Chardon\, OH\, 44024\, United States
END:VEVENT
BEGIN:VEVENT
DTSTART;VALUE=DATE:20260101
DTEND;VALUE=DATE:20260102
DTSTAMP:20260424T083319
CREATED:20250411T170104Z
LAST-MODIFIED:20250411T170112Z
UID:4977-1767225600-1767311999@vets.co.geauga.oh.us
SUMMARY:Holiday Office Closed
DESCRIPTION:In observance for New Year’s Day
URL:https://vets.co.geauga.oh.us/event/holiday-office-closed-2/
LOCATION:Veterans Office\, 12611 Ravenwood Dr\, Chardon\, OH\, 44024\, United States
END:VEVENT
BEGIN:VEVENT
DTSTART;TZID=America/New_York:20260106T150000
DTEND;TZID=America/New_York:20260106T160000
DTSTAMP:20260424T083319
CREATED:20260108T154024Z
LAST-MODIFIED:20260108T154030Z
UID:5139-1767711600-1767715200@vets.co.geauga.oh.us
SUMMARY:Veterans Service Commission Meeting
DESCRIPTION:
URL:https://vets.co.geauga.oh.us/event/veterans-service-commission-meeting-11/
END:VEVENT
BEGIN:VEVENT
DTSTART;TZID=America/New_York:20260108T190000
DTEND;TZID=America/New_York:20260108T200000
DTSTAMP:20260424T083319
CREATED:20260108T171101Z
LAST-MODIFIED:20260108T171107Z
UID:5166-1767898800-1767902400@vets.co.geauga.oh.us
SUMMARY:Chardon VFW Post 6519 Meeting
DESCRIPTION:
URL:https://vets.co.geauga.oh.us/event/chardon-vfw-post-6519-meeting-4/
END:VEVENT
BEGIN:VEVENT
DTSTART;TZID=America/New_York:20260112T193000
DTEND;TZID=America/New_York:20260112T203000
DTSTAMP:20260424T083319
CREATED:20260108T200711Z
LAST-MODIFIED:20260108T200716Z
UID:5217-1768246200-1768249800@vets.co.geauga.oh.us
SUMMARY:Newbury American Legion Post 633 Meeting
DESCRIPTION:
URL:https://vets.co.geauga.oh.us/event/newbury-american-legion-post-633-meeting-17/
END:VEVENT
BEGIN:VEVENT
DTSTART;TZID=America/New_York:20260113T193000
DTEND;TZID=America/New_York:20260113T203000
DTSTAMP:20260424T083319
CREATED:20260108T193948Z
LAST-MODIFIED:20260108T193953Z
UID:5192-1768332600-1768336200@vets.co.geauga.oh.us
SUMMARY:Burton American Legion Post 459 Meeting
DESCRIPTION:
URL:https://vets.co.geauga.oh.us/event/burton-american-legion-post-459-meeting-7/
END:VEVENT
BEGIN:VEVENT
DTSTART;TZID=America/New_York:20260115T190000
DTEND;TZID=America/New_York:20260115T200000
DTSTAMP:20260424T083319
CREATED:20260108T202755Z
LAST-MODIFIED:20260108T202800Z
UID:5242-1768503600-1768507200@vets.co.geauga.oh.us
SUMMARY:Chardon American Legion Post 167 Meeting
DESCRIPTION:
URL:https://vets.co.geauga.oh.us/event/chardon-american-legion-post-167-meeting/
END:VEVENT
BEGIN:VEVENT
DTSTART;VALUE=DATE:20260119
DTEND;VALUE=DATE:20260120
DTSTAMP:20260424T083319
CREATED:20260109T151006Z
LAST-MODIFIED:20260109T151259Z
UID:5268-1768780800-1768867199@vets.co.geauga.oh.us
SUMMARY:Holiday Office Closed
DESCRIPTION:In observance for Martin Luther King Day
URL:https://vets.co.geauga.oh.us/event/holiday-office-closed-3/
END:VEVENT
BEGIN:VEVENT
DTSTART;TZID=America/New_York:20260120T183000
DTEND;TZID=America/New_York:20260120T193000
DTSTAMP:20260424T083319
CREATED:20260120T140642Z
LAST-MODIFIED:20260120T140743Z
UID:5285-1768933800-1768937400@vets.co.geauga.oh.us
SUMMARY:Middlefield VFW Post 9678 Meeting
DESCRIPTION:
URL:https://vets.co.geauga.oh.us/event/middlefield-vfw-post-9678/
END:VEVENT
END:VCALENDAR