BEGIN:VCALENDAR
VERSION:2.0
PRODID:-//Geauga County Veterans Services - ECPv6.15.20//NONSGML v1.0//EN
CALSCALE:GREGORIAN
METHOD:PUBLISH
X-ORIGINAL-URL:https://vets.co.geauga.oh.us
X-WR-CALDESC:Events for Geauga County Veterans Services
REFRESH-INTERVAL;VALUE=DURATION:PT1H
X-Robots-Tag:noindex
X-PUBLISHED-TTL:PT1H
BEGIN:VTIMEZONE
TZID:America/New_York
BEGIN:DAYLIGHT
TZOFFSETFROM:-0500
TZOFFSETTO:-0400
TZNAME:EDT
DTSTART:20240310T070000
END:DAYLIGHT
BEGIN:STANDARD
TZOFFSETFROM:-0400
TZOFFSETTO:-0500
TZNAME:EST
DTSTART:20241103T060000
END:STANDARD
BEGIN:DAYLIGHT
TZOFFSETFROM:-0500
TZOFFSETTO:-0400
TZNAME:EDT
DTSTART:20250309T070000
END:DAYLIGHT
BEGIN:STANDARD
TZOFFSETFROM:-0400
TZOFFSETTO:-0500
TZNAME:EST
DTSTART:20251102T060000
END:STANDARD
BEGIN:DAYLIGHT
TZOFFSETFROM:-0500
TZOFFSETTO:-0400
TZNAME:EDT
DTSTART:20260308T070000
END:DAYLIGHT
BEGIN:STANDARD
TZOFFSETFROM:-0400
TZOFFSETTO:-0500
TZNAME:EST
DTSTART:20261101T060000
END:STANDARD
END:VTIMEZONE
BEGIN:VEVENT
DTSTART;VALUE=DATE:20250619
DTEND;VALUE=DATE:20250620
DTSTAMP:20260424T124502
CREATED:20250409T164944Z
LAST-MODIFIED:20250409T164956Z
UID:4848-1750291200-1750377599@vets.co.geauga.oh.us
SUMMARY:Office Closed
DESCRIPTION:Office will be closed in observance of Juneteenth Day
URL:https://vets.co.geauga.oh.us/event/office-closed-8/
LOCATION:oh
END:VEVENT
BEGIN:VEVENT
DTSTART;TZID=America/New_York:20250614T090000
DTEND;TZID=America/New_York:20250614T130000
DTSTAMP:20260424T124502
CREATED:20250411T142904Z
LAST-MODIFIED:20250411T142911Z
UID:4913-1749891600-1749906000@vets.co.geauga.oh.us
SUMMARY:UH Safety Day at Geauga Hospital
DESCRIPTION:we will have a table there Michele will be there answering any questions Veterans might have
URL:https://vets.co.geauga.oh.us/event/uh-safety-day-at-geauga-hospital/
LOCATION:UH Geauga Hospital\, 13207 Ravenna Rd\, Chardon\, OH\, 44024
END:VEVENT
BEGIN:VEVENT
DTSTART;TZID=America/New_York:20250610T193000
DTEND;TZID=America/New_York:20250610T203000
DTSTAMP:20260424T124502
CREATED:20250411T170901Z
LAST-MODIFIED:20250411T172458Z
UID:4981-1749583800-1749587400@vets.co.geauga.oh.us
SUMMARY:Burton American Legion Post 459 Meeting
DESCRIPTION:
URL:https://vets.co.geauga.oh.us/event/burton-american-legion-post-459-meeting/
LOCATION:Burton American Legion Post #459\, 14052 Goodwin St\, Burton\, Oh\, 44021
END:VEVENT
BEGIN:VEVENT
DTSTART;TZID=America/New_York:20250609T193000
DTEND;TZID=America/New_York:20250609T203000
DTSTAMP:20260424T124502
CREATED:20250411T143315Z
LAST-MODIFIED:20250411T143322Z
UID:4917-1749497400-1749501000@vets.co.geauga.oh.us
SUMMARY:Newbury American Legion Post 633 Meeting
DESCRIPTION:Meeting night
URL:https://vets.co.geauga.oh.us/event/newbury-american-legion-post-633-meeting/
LOCATION:Newbury American Legion\, 11008 Kinsman Rd\, Newbury\, oh\, 44065
END:VEVENT
BEGIN:VEVENT
DTSTART;TZID=America/New_York:20250605T190000
DTEND;TZID=America/New_York:20250605T200000
DTSTAMP:20260424T124502
CREATED:20250411T160039Z
LAST-MODIFIED:20250411T160048Z
UID:4957-1749150000-1749153600@vets.co.geauga.oh.us
SUMMARY:Chardon VFW Post 6519 Meeting
DESCRIPTION:Regular Member Meeting
URL:https://vets.co.geauga.oh.us/event/chardon-vfw-post-6519-meeting/
LOCATION:Chardon VFW Post 1659\, 724 Water St\, Chardon\, OH\, 44024\, United States
END:VEVENT
BEGIN:VEVENT
DTSTART;TZID=America/New_York:20250604T110000
DTEND;TZID=America/New_York:20250604T150000
DTSTAMP:20260424T124502
CREATED:20250411T142232Z
LAST-MODIFIED:20250411T142240Z
UID:4911-1749034800-1749049200@vets.co.geauga.oh.us
SUMMARY:Resources for Care Givers at Claridon Woodlands Park
DESCRIPTION:Randy will have a table set up to answer any questions veterans might have
URL:https://vets.co.geauga.oh.us/event/resources-for-care-givers-at-claridon-woodlands-park/
LOCATION:Claridon Woodlands\, 11383 Claridon Troy Rd\, Chardon\, OH\, 44024\, United States
END:VEVENT
BEGIN:VEVENT
DTSTART;TZID=America/New_York:20250603T150000
DTEND;TZID=America/New_York:20250603T160000
DTSTAMP:20260424T124502
CREATED:20250317T172911Z
LAST-MODIFIED:20250317T173011Z
UID:4800-1748962800-1748966400@vets.co.geauga.oh.us
SUMMARY:Veterans Service Commission Meeting
DESCRIPTION:
URL:https://vets.co.geauga.oh.us/event/veterans-service-commission-meeting-2/
LOCATION:oh
END:VEVENT
BEGIN:VEVENT
DTSTART;TZID=America/New_York:20250528T080000
DTEND;TZID=America/New_York:20250528T120000
DTSTAMP:20260424T124502
CREATED:20250411T142025Z
LAST-MODIFIED:20250411T142033Z
UID:4909-1748419200-1748433600@vets.co.geauga.oh.us
SUMMARY:Pick up Flags at All Souls
DESCRIPTION:we will be picking up flags at All Souls Cemetery
URL:https://vets.co.geauga.oh.us/event/pick-up-flags-at-all-souls/
LOCATION:All Souls Cemetery\, 10366 Chardon Rd\, Chardon\, OH\, 44024
END:VEVENT
BEGIN:VEVENT
DTSTART;TZID=America/New_York:20250527T193000
DTEND;TZID=America/New_York:20250527T203000
DTSTAMP:20260424T124502
CREATED:20250409T185018Z
LAST-MODIFIED:20250409T185059Z
UID:4878-1748374200-1748377800@vets.co.geauga.oh.us
SUMMARY:American Legion Post #459 - Burton
DESCRIPTION:Member Meeting
URL:https://vets.co.geauga.oh.us/event/american-legion-post-459-burton-3/
LOCATION:Burton American Legion Post #459\, 14052 Goodwin St\, Burton\, Oh\, 44021
END:VEVENT
BEGIN:VEVENT
DTSTART;VALUE=DATE:20250526
DTEND;VALUE=DATE:20250527
DTSTAMP:20260424T124502
CREATED:20250409T163954Z
LAST-MODIFIED:20250409T164002Z
UID:4840-1748217600-1748303999@vets.co.geauga.oh.us
SUMMARY:OFFICE CLOSED
DESCRIPTION:Our office will be closed in observation of Memorial Day. \nWe will resume normal operations on Tuesday May 27\, 2025
URL:https://vets.co.geauga.oh.us/event/office-closed-6/
LOCATION:Veterans Office\, 12611 Ravenwood Dr\, Chardon\, OH\, 44024\, United States
END:VEVENT
BEGIN:VEVENT
DTSTART;VALUE=DATE:20250522
DTEND;VALUE=DATE:20250523
DTSTAMP:20260424T124502
CREATED:20250411T141145Z
LAST-MODIFIED:20250411T141153Z
UID:4901-1747872000-1747958399@vets.co.geauga.oh.us
SUMMARY:Office Closed Putting Flags Out
DESCRIPTION:Our office will be putting flags out on graves at All souls Cemetery
URL:https://vets.co.geauga.oh.us/event/office-closed-putting-flags-out/
LOCATION:Veterans Office\, 12611 Ravenwood Dr\, Chardon\, OH\, 44024\, United States
END:VEVENT
BEGIN:VEVENT
DTSTART;TZID=America/New_York:20250517T090000
DTEND;TZID=America/New_York:20250517T123000
DTSTAMP:20260424T124502
CREATED:20250411T140933Z
LAST-MODIFIED:20250411T140941Z
UID:4899-1747472400-1747485000@vets.co.geauga.oh.us
SUMMARY:Stars & Strides Run/Walk
DESCRIPTION:Event held at Lakeland Community College \nWe will have a table to answer any questions veterans might have
URL:https://vets.co.geauga.oh.us/event/stars-strides-run-walk/
LOCATION:Lakeland Community College\, 7700 Clocktower Dr\, Kirtland q\, OH\, 44094\, United States
END:VEVENT
BEGIN:VEVENT
DTSTART;TZID=America/New_York:20250513T193000
DTEND;TZID=America/New_York:20250513T203000
DTSTAMP:20260424T124502
CREATED:20250409T184842Z
LAST-MODIFIED:20250409T184849Z
UID:4876-1747164600-1747168200@vets.co.geauga.oh.us
SUMMARY:American Legion Post #459 - Burton
DESCRIPTION:Member Meeting
URL:https://vets.co.geauga.oh.us/event/american-legion-post-459-burton-2/
LOCATION:Burton American Legion Post #459\, 14052 Goodwin St\, Burton\, Oh\, 44021
END:VEVENT
BEGIN:VEVENT
DTSTART;TZID=America/New_York:20250512T193000
DTEND;TZID=America/New_York:20250512T203000
DTSTAMP:20260424T124502
CREATED:20250411T140645Z
LAST-MODIFIED:20250411T140653Z
UID:4897-1747078200-1747081800@vets.co.geauga.oh.us
SUMMARY:Newbury American Legion Post #633
DESCRIPTION:
URL:https://vets.co.geauga.oh.us/event/newbury-american-legion-post-633-3/
LOCATION:Newbury American Legion\, 11008 Kinsman Rd\, Newbury\, oh\, 44065
END:VEVENT
BEGIN:VEVENT
DTSTART;TZID=America/New_York:20250506T150000
DTEND;TZID=America/New_York:20250506T160000
DTSTAMP:20260424T124502
CREATED:20250317T172522Z
LAST-MODIFIED:20250317T172617Z
UID:4797-1746543600-1746547200@vets.co.geauga.oh.us
SUMMARY:Veterans Service Commission Meeting
DESCRIPTION:
URL:https://vets.co.geauga.oh.us/event/veterans-service-commission-meeting/
LOCATION:oh
END:VEVENT
BEGIN:VEVENT
DTSTART;TZID=America/New_York:20250501T190000
DTEND;TZID=America/New_York:20250501T200000
DTSTAMP:20260424T124502
CREATED:20250409T174415Z
LAST-MODIFIED:20250409T174426Z
UID:4854-1746126000-1746129600@vets.co.geauga.oh.us
SUMMARY:Chardon VFW Post #6519 Regular Member Mtg
DESCRIPTION:Regular member meeting nights. \nIf anyone wants to present something to our post call 440-285-3699 and the Post Commander will get back to you. \nIf you need color guard\, call the post and the color guard coordinator will get back to you.
URL:https://vets.co.geauga.oh.us/event/chardon-vfw-post-6519-regular-member-mtg/
LOCATION:Chardon VFW Post 1659\, 724 Water St\, Chardon\, OH\, 44024\, United States
END:VEVENT
BEGIN:VEVENT
DTSTART;TZID=America/New_York:20250428T193000
DTEND;TZID=America/New_York:20250428T203000
DTSTAMP:20260424T124502
CREATED:20250411T140406Z
LAST-MODIFIED:20250411T140414Z
UID:4895-1745868600-1745872200@vets.co.geauga.oh.us
SUMMARY:Newbury American Legion Post #633
DESCRIPTION:
URL:https://vets.co.geauga.oh.us/event/newbury-american-legion-post-633-2/
LOCATION:Newbury American Legion\, 11008 Kinsman Rd\, Newbury\, oh\, 44065
END:VEVENT
BEGIN:VEVENT
DTSTART;TZID=America/New_York:20250422T193000
DTEND;TZID=America/New_York:20250422T203000
DTSTAMP:20260424T124502
CREATED:20250409T184636Z
LAST-MODIFIED:20250409T184648Z
UID:4874-1745350200-1745353800@vets.co.geauga.oh.us
SUMMARY:American Legion Post #459 - Burton
DESCRIPTION:Member meeting
URL:https://vets.co.geauga.oh.us/event/american-legion-post-459-burton/
LOCATION:Burton American Legion Post #459\, 14052 Goodwin St\, Burton\, Oh\, 44021
END:VEVENT
BEGIN:VEVENT
DTSTART;TZID=America/New_York:20250414T193000
DTEND;TZID=America/New_York:20250414T203000
DTSTAMP:20260424T124502
CREATED:20250411T140140Z
LAST-MODIFIED:20250411T140249Z
UID:4891-1744659000-1744662600@vets.co.geauga.oh.us
SUMMARY:Newbury American Legion Post #633
DESCRIPTION:
URL:https://vets.co.geauga.oh.us/event/newbury-american-legion-post-633/
LOCATION:Newbury American Legion\, 11008 Kinsman Rd\, Newbury\, oh\, 44065
END:VEVENT
BEGIN:VEVENT
DTSTART;TZID=America/New_York:20250401T150000
DTEND;TZID=America/New_York:20250401T160000
DTSTAMP:20260424T124502
CREATED:20250317T172238Z
LAST-MODIFIED:20250317T172247Z
UID:4795-1743519600-1743523200@vets.co.geauga.oh.us
SUMMARY:Veteran Service Commission Meeting
DESCRIPTION:
URL:https://vets.co.geauga.oh.us/event/veteran-service-commission-meeting/
LOCATION:oh
END:VEVENT
BEGIN:VEVENT
DTSTART;TZID=America/New_York:20250330T080000
DTEND;TZID=America/New_York:20250330T120000
DTSTAMP:20260424T124502
CREATED:20250203T190339Z
LAST-MODIFIED:20250203T190352Z
UID:4776-1743321600-1743336000@vets.co.geauga.oh.us
SUMMARY:Pancake Breakfast at Chardon VFW
DESCRIPTION:
URL:https://vets.co.geauga.oh.us/event/pancake-breakfast-at-chardon-vfw-8/
LOCATION:Chardon VFW Post 1659\, 724 Water St\, Chardon\, OH\, 44024\, United States
END:VEVENT
BEGIN:VEVENT
DTSTART;TZID=America/New_York:20250323T080000
DTEND;TZID=America/New_York:20250323T120000
DTSTAMP:20260424T124502
CREATED:20250203T190153Z
LAST-MODIFIED:20250203T190235Z
UID:4774-1742716800-1742731200@vets.co.geauga.oh.us
SUMMARY:Pancake Breakfast at Chardon VFW
DESCRIPTION:
URL:https://vets.co.geauga.oh.us/event/pancake-breakfast-at-chardon-vfw-7/
LOCATION:Chardon VFW Post 1659\, 724 Water St\, Chardon\, OH\, 44024\, United States
END:VEVENT
BEGIN:VEVENT
DTSTART;TZID=America/New_York:20250318T150000
DTEND;TZID=America/New_York:20250318T160000
DTSTAMP:20260424T124502
CREATED:20250317T175241Z
LAST-MODIFIED:20250317T175249Z
UID:4814-1742310000-1742313600@vets.co.geauga.oh.us
SUMMARY:Veterans Service Commission Meeting
DESCRIPTION:
URL:https://vets.co.geauga.oh.us/event/veterans-service-commission-meeting-9/
LOCATION:oh
END:VEVENT
BEGIN:VEVENT
DTSTART;TZID=America/New_York:20250316T080000
DTEND;TZID=America/New_York:20250316T120000
DTSTAMP:20260424T124502
CREATED:20250203T190023Z
LAST-MODIFIED:20250203T190033Z
UID:4772-1742112000-1742126400@vets.co.geauga.oh.us
SUMMARY:Pancake Breakfast at Chardon VFW
DESCRIPTION:
URL:https://vets.co.geauga.oh.us/event/pancake-breakfast-at-chardon-vfw-6/
LOCATION:Chardon VFW Post 1659\, 724 Water St\, Chardon\, OH\, 44024\, United States
END:VEVENT
BEGIN:VEVENT
DTSTART;TZID=America/New_York:20250309T080000
DTEND;TZID=America/New_York:20250309T120000
DTSTAMP:20260424T124502
CREATED:20250203T185822Z
LAST-MODIFIED:20250203T185836Z
UID:4770-1741507200-1741521600@vets.co.geauga.oh.us
SUMMARY:Pancake Breakfast at Chardon VFW
DESCRIPTION:
URL:https://vets.co.geauga.oh.us/event/pancake-breakfast-at-chardon-vfw-5/
LOCATION:Chardon VFW Post 1659\, 724 Water St\, Chardon\, OH\, 44024\, United States
END:VEVENT
BEGIN:VEVENT
DTSTART;TZID=America/New_York:20250302T080000
DTEND;TZID=America/New_York:20250302T120000
DTSTAMP:20260424T124502
CREATED:20250203T174351Z
LAST-MODIFIED:20250203T174359Z
UID:4768-1740902400-1740916800@vets.co.geauga.oh.us
SUMMARY:Pancake Breakfast at Chardon VFW
DESCRIPTION:
URL:https://vets.co.geauga.oh.us/event/pancake-breakfast-at-chardon-vfw-4/
LOCATION:Chardon VFW Post 1659\, 724 Water St\, Chardon\, OH\, 44024\, United States
END:VEVENT
BEGIN:VEVENT
DTSTART;TZID=America/New_York:20250223T090000
DTEND;TZID=America/New_York:20250223T130000
DTSTAMP:20260424T124502
CREATED:20250203T201642Z
LAST-MODIFIED:20250203T201657Z
UID:4786-1740301200-1740315600@vets.co.geauga.oh.us
SUMMARY:Pancake Breakfast @ Burton American Legion
DESCRIPTION:$10.00 Adults \n$5.00 Children ages 7-13 \nChildren under 6 eat free
URL:https://vets.co.geauga.oh.us/event/pancake-breakfast-burton-american-legion-3/
LOCATION:Burton American Legion\, 14052 Goodwin St\, Burton\, Ohio\, 44021
END:VEVENT
BEGIN:VEVENT
DTSTART;TZID=America/New_York:20250223T080000
DTEND;TZID=America/New_York:20250223T120000
DTSTAMP:20260424T124502
CREATED:20250203T173633Z
LAST-MODIFIED:20250203T174041Z
UID:4764-1740297600-1740312000@vets.co.geauga.oh.us
SUMMARY:Pancake Breakfast at Chardon VFW
DESCRIPTION:
URL:https://vets.co.geauga.oh.us/event/pancake-breakfast-at-chardon-vfw-2/
LOCATION:Chardon VFW Post 1659\, 724 Water St\, Chardon\, OH\, 44024\, United States
END:VEVENT
BEGIN:VEVENT
DTSTART;TZID=America/New_York:20250217T080000
DTEND;TZID=America/New_York:20250217T160000
DTSTAMP:20260424T124502
CREATED:20250203T190544Z
LAST-MODIFIED:20250203T190554Z
UID:4778-1739779200-1739808000@vets.co.geauga.oh.us
SUMMARY:Presidents Day - Office Closed
DESCRIPTION:
URL:https://vets.co.geauga.oh.us/event/presidents-day-office-closed/
LOCATION:Veterans Office\, 12611 Ravenwood Dr\, Chardon\, OH\, 44024\, United States
END:VEVENT
BEGIN:VEVENT
DTSTART;TZID=America/New_York:20250216T090000
DTEND;TZID=America/New_York:20250216T130000
DTSTAMP:20260424T124502
CREATED:20250203T201434Z
LAST-MODIFIED:20250203T201443Z
UID:4784-1739696400-1739710800@vets.co.geauga.oh.us
SUMMARY:Pancake Breakfast @ Burton American Legion
DESCRIPTION:$10.00 Adults \n$5.00 Children ages 7-13 \nChildren under 6 eat free
URL:https://vets.co.geauga.oh.us/event/pancake-breakfast-burton-american-legion-2/
LOCATION:Burton American Legion\, 14052 Goodwin St\, Burton\, Ohio\, 44021
END:VEVENT
END:VCALENDAR