BEGIN:VCALENDAR
VERSION:2.0
PRODID:-//Geauga County Veterans Services - ECPv6.15.20//NONSGML v1.0//EN
CALSCALE:GREGORIAN
METHOD:PUBLISH
X-ORIGINAL-URL:https://vets.co.geauga.oh.us
X-WR-CALDESC:Events for Geauga County Veterans Services
REFRESH-INTERVAL;VALUE=DURATION:PT1H
X-Robots-Tag:noindex
X-PUBLISHED-TTL:PT1H
BEGIN:VTIMEZONE
TZID:America/New_York
BEGIN:DAYLIGHT
TZOFFSETFROM:-0500
TZOFFSETTO:-0400
TZNAME:EDT
DTSTART:20250309T070000
END:DAYLIGHT
BEGIN:STANDARD
TZOFFSETFROM:-0400
TZOFFSETTO:-0500
TZNAME:EST
DTSTART:20251102T060000
END:STANDARD
BEGIN:DAYLIGHT
TZOFFSETFROM:-0500
TZOFFSETTO:-0400
TZNAME:EDT
DTSTART:20260308T070000
END:DAYLIGHT
BEGIN:STANDARD
TZOFFSETFROM:-0400
TZOFFSETTO:-0500
TZNAME:EST
DTSTART:20261101T060000
END:STANDARD
BEGIN:DAYLIGHT
TZOFFSETFROM:-0500
TZOFFSETTO:-0400
TZNAME:EDT
DTSTART:20270314T070000
END:DAYLIGHT
BEGIN:STANDARD
TZOFFSETFROM:-0400
TZOFFSETTO:-0500
TZNAME:EST
DTSTART:20271107T060000
END:STANDARD
END:VTIMEZONE
BEGIN:VEVENT
DTSTART;VALUE=DATE:20260119
DTEND;VALUE=DATE:20260120
DTSTAMP:20260425T104316
CREATED:20260109T151006Z
LAST-MODIFIED:20260109T151259Z
UID:5268-1768780800-1768867199@vets.co.geauga.oh.us
SUMMARY:Holiday Office Closed
DESCRIPTION:In observance for Martin Luther King Day
URL:https://vets.co.geauga.oh.us/event/holiday-office-closed-3/
LOCATION:oh
END:VEVENT
BEGIN:VEVENT
DTSTART;TZID=America/New_York:20260120T183000
DTEND;TZID=America/New_York:20260120T193000
DTSTAMP:20260425T104316
CREATED:20260120T140642Z
LAST-MODIFIED:20260120T140743Z
UID:5285-1768933800-1768937400@vets.co.geauga.oh.us
SUMMARY:Middlefield VFW Post 9678 Meeting
DESCRIPTION:
URL:https://vets.co.geauga.oh.us/event/middlefield-vfw-post-9678/
LOCATION:oh
END:VEVENT
BEGIN:VEVENT
DTSTART;TZID=America/New_York:20260201T080000
DTEND;TZID=America/New_York:20260201T120000
DTSTAMP:20260425T104316
CREATED:20260302T163158Z
LAST-MODIFIED:20260302T163204Z
UID:5323-1769932800-1769947200@vets.co.geauga.oh.us
SUMMARY:Chardon VFW Post #6519 - PANCAKE BREAKFAST
DESCRIPTION:Location: 752 Water St.\, Chardon\, OH \nCost: $9:00 to $12.00
URL:https://vets.co.geauga.oh.us/event/chardon-vfw-post-6519-pancake-breakfast/
LOCATION:oh
END:VEVENT
BEGIN:VEVENT
DTSTART;TZID=America/New_York:20260203T150000
DTEND;TZID=America/New_York:20260203T160000
DTSTAMP:20260425T104316
CREATED:20260108T154146Z
LAST-MODIFIED:20260108T154152Z
UID:5141-1770130800-1770134400@vets.co.geauga.oh.us
SUMMARY:Veterans Service Commission Meeting
DESCRIPTION:
URL:https://vets.co.geauga.oh.us/event/veterans-service-commission-meeting-12/
LOCATION:oh
END:VEVENT
BEGIN:VEVENT
DTSTART;TZID=America/New_York:20260205T190000
DTEND;TZID=America/New_York:20260205T200000
DTSTAMP:20260425T104316
CREATED:20260108T165736Z
LAST-MODIFIED:20260108T165846Z
UID:5163-1770318000-1770321600@vets.co.geauga.oh.us
SUMMARY:Chardon VFW Post 6519 Meeting
DESCRIPTION:
URL:https://vets.co.geauga.oh.us/event/chardon-vfw-post-6519-meeting-3/
LOCATION:oh
END:VEVENT
BEGIN:VEVENT
DTSTART;TZID=America/New_York:20260208T080000
DTEND;TZID=America/New_York:20260208T120000
DTSTAMP:20260425T104316
CREATED:20260302T163638Z
LAST-MODIFIED:20260302T163644Z
UID:5325-1770537600-1770552000@vets.co.geauga.oh.us
SUMMARY:Chardon VFW Post #6519 - PANCAKE BREAKFAST
DESCRIPTION:Location: 752 Water St.\, Chardon\, OH \nCost: $9.00 to $12.00
URL:https://vets.co.geauga.oh.us/event/chardon-vfw-post-6519-pancake-breakfast-2/
LOCATION:oh
END:VEVENT
BEGIN:VEVENT
DTSTART;TZID=America/New_York:20260209T193000
DTEND;TZID=America/New_York:20260209T203000
DTSTAMP:20260425T104316
CREATED:20260108T200815Z
LAST-MODIFIED:20260108T200821Z
UID:5219-1770665400-1770669000@vets.co.geauga.oh.us
SUMMARY:Newbury American Legion Post 633 Meeting
DESCRIPTION:
URL:https://vets.co.geauga.oh.us/event/newbury-american-legion-post-633-meeting-18/
LOCATION:oh
END:VEVENT
BEGIN:VEVENT
DTSTART;TZID=America/New_York:20260210T193000
DTEND;TZID=America/New_York:20260210T203000
DTSTAMP:20260425T104316
CREATED:20260108T194425Z
LAST-MODIFIED:20260108T194430Z
UID:5194-1770751800-1770755400@vets.co.geauga.oh.us
SUMMARY:Burton American Legion Post 459 Meeting
DESCRIPTION:
URL:https://vets.co.geauga.oh.us/event/burton-american-legion-post-459-meeting-8/
LOCATION:oh
END:VEVENT
BEGIN:VEVENT
DTSTART;TZID=America/New_York:20260215T080000
DTEND;TZID=America/New_York:20260215T120000
DTSTAMP:20260425T104316
CREATED:20260302T185224Z
LAST-MODIFIED:20260302T185230Z
UID:5327-1771142400-1771156800@vets.co.geauga.oh.us
SUMMARY:Chardon VFW Post #6519 - PANCAKE BREAKFAST
DESCRIPTION:Location: 752 Water St\, Chardon\, OH \nCost: $9.00 to $12.00
URL:https://vets.co.geauga.oh.us/event/chardon-vfw-post-6519-pancake-breakfast-3/
LOCATION:oh
END:VEVENT
BEGIN:VEVENT
DTSTART;VALUE=DATE:20260216
DTEND;VALUE=DATE:20260217
DTSTAMP:20260425T104316
CREATED:20260109T202626Z
LAST-MODIFIED:20260109T202632Z
UID:5283-1771200000-1771286399@vets.co.geauga.oh.us
SUMMARY:Holiday Office Closed
DESCRIPTION:In observance for Presidents’ Day
URL:https://vets.co.geauga.oh.us/event/holiday-office-closed-9/
LOCATION:oh
END:VEVENT
BEGIN:VEVENT
DTSTART;TZID=America/New_York:20260217T183000
DTEND;TZID=America/New_York:20260217T193000
DTSTAMP:20260425T104316
CREATED:20260120T141138Z
LAST-MODIFIED:20260120T141144Z
UID:5288-1771353000-1771356600@vets.co.geauga.oh.us
SUMMARY:Middlefield VFW Post 9678 Meeting
DESCRIPTION:
URL:https://vets.co.geauga.oh.us/event/middlefield-vfw-post-9678-meeting/
LOCATION:oh
END:VEVENT
BEGIN:VEVENT
DTSTART;TZID=America/New_York:20260219T190000
DTEND;TZID=America/New_York:20260219T200000
DTSTAMP:20260425T104316
CREATED:20260108T202912Z
LAST-MODIFIED:20260108T202918Z
UID:5244-1771527600-1771531200@vets.co.geauga.oh.us
SUMMARY:Chardon American Legion Post 167 Meeting
DESCRIPTION:
URL:https://vets.co.geauga.oh.us/event/chardon-american-legion-post-167-meeting-2/
LOCATION:oh
END:VEVENT
BEGIN:VEVENT
DTSTART;TZID=America/New_York:20260222T080000
DTEND;TZID=America/New_York:20260222T120000
DTSTAMP:20260425T104316
CREATED:20260302T185445Z
LAST-MODIFIED:20260302T185450Z
UID:5329-1771747200-1771761600@vets.co.geauga.oh.us
SUMMARY:Chardon VFW Post #6519 - PANCAKE BREAKFAST
DESCRIPTION:Location: 752 Water St.\, Chardon\, OH \nCost: $9.00 to $12.00
URL:https://vets.co.geauga.oh.us/event/chardon-vfw-post-6519-pancake-breakfast-4/
LOCATION:oh
END:VEVENT
BEGIN:VEVENT
DTSTART;TZID=America/New_York:20260301T080000
DTEND;TZID=America/New_York:20260301T120000
DTSTAMP:20260425T104316
CREATED:20260302T185714Z
LAST-MODIFIED:20260302T185844Z
UID:5331-1772352000-1772366400@vets.co.geauga.oh.us
SUMMARY:PANCAKE BREAKFAST - Chardon VFW Post #6519
DESCRIPTION:Location: 752 Water St.\, Chardon\, OH \nCost: $9.00 to $12.00
URL:https://vets.co.geauga.oh.us/event/chardon-vfw-post-6519-pancake-breakfast-5/
LOCATION:oh
END:VEVENT
BEGIN:VEVENT
DTSTART;TZID=America/New_York:20260301T090000
DTEND;TZID=America/New_York:20260301T130000
DTSTAMP:20260425T104316
CREATED:20260302T202456Z
LAST-MODIFIED:20260302T203012Z
UID:5343-1772355600-1772370000@vets.co.geauga.oh.us
SUMMARY:All-You-Can-Eat PANCAKE BREAKFAST - American Legion Post #459
DESCRIPTION:Location: 14052 Goodwin St.\, Burton\, OH \n  \nCost: Adults $10.00 & Kids (6-13 yrs.) $5.00
URL:https://vets.co.geauga.oh.us/event/all-you-can-eat-pancake-breakfast-american-legion-post-459/
LOCATION:oh
END:VEVENT
BEGIN:VEVENT
DTSTART;TZID=America/New_York:20260303T150000
DTEND;TZID=America/New_York:20260303T160000
DTSTAMP:20260425T104316
CREATED:20260108T152534Z
LAST-MODIFIED:20260108T153825Z
UID:5136-1772550000-1772553600@vets.co.geauga.oh.us
SUMMARY:Veterans Service Commission Meeting
DESCRIPTION:
URL:https://vets.co.geauga.oh.us/event/veterans-service-commission-meeting-10/
LOCATION:oh
END:VEVENT
BEGIN:VEVENT
DTSTART;TZID=America/New_York:20260305T190000
DTEND;TZID=America/New_York:20260305T200000
DTSTAMP:20260425T104316
CREATED:20260108T172154Z
LAST-MODIFIED:20260108T172159Z
UID:5170-1772737200-1772740800@vets.co.geauga.oh.us
SUMMARY:Chardon VFW Post 6519 Meeting
DESCRIPTION:
URL:https://vets.co.geauga.oh.us/event/chardon-vfw-post-6519-meeting-2/
LOCATION:oh
END:VEVENT
BEGIN:VEVENT
DTSTART;TZID=America/New_York:20260308T080000
DTEND;TZID=America/New_York:20260308T120000
DTSTAMP:20260425T104316
CREATED:20260302T190122Z
LAST-MODIFIED:20260302T190127Z
UID:5334-1772956800-1772971200@vets.co.geauga.oh.us
SUMMARY:PANCAKE BREAKFAST - Chardon VFW Post #6519
DESCRIPTION:Location: 752 Water St.\, Chardon\, OH \nCost: $9.00 to $12.00
URL:https://vets.co.geauga.oh.us/event/pancake-breakfast-chardon-vfw-post-6519/
LOCATION:oh
END:VEVENT
BEGIN:VEVENT
DTSTART;TZID=America/New_York:20260308T090000
DTEND;TZID=America/New_York:20260308T130000
DTSTAMP:20260425T104316
CREATED:20260302T203422Z
LAST-MODIFIED:20260302T203428Z
UID:5348-1772960400-1772974800@vets.co.geauga.oh.us
SUMMARY:All-You-Can-Eat PANCAKE BREAKFAST - American Legion Post #459
DESCRIPTION:Location: 14052 Goodwin St.\, Burton\, OH \n  \nCost: Adults $10.00 & Kids (6-13 yrs.) $5.00
URL:https://vets.co.geauga.oh.us/event/all-you-can-eat-pancake-breakfast-american-legion-post-459-2/
LOCATION:oh
END:VEVENT
BEGIN:VEVENT
DTSTART;TZID=America/New_York:20260309T193000
DTEND;TZID=America/New_York:20260309T203000
DTSTAMP:20260425T104316
CREATED:20260108T200922Z
LAST-MODIFIED:20260108T200927Z
UID:5221-1773084600-1773088200@vets.co.geauga.oh.us
SUMMARY:Newbury American Legion Post 633 Meeting
DESCRIPTION:
URL:https://vets.co.geauga.oh.us/event/newbury-american-legion-post-633-meeting-19/
LOCATION:oh
END:VEVENT
BEGIN:VEVENT
DTSTART;TZID=America/New_York:20260310T193000
DTEND;TZID=America/New_York:20260310T203000
DTSTAMP:20260425T104316
CREATED:20260108T194557Z
LAST-MODIFIED:20260108T194603Z
UID:5196-1773171000-1773174600@vets.co.geauga.oh.us
SUMMARY:Burton American Legion Post 459 Meeting
DESCRIPTION:
URL:https://vets.co.geauga.oh.us/event/burton-american-legion-post-459-meeting-9/
LOCATION:oh
END:VEVENT
BEGIN:VEVENT
DTSTART;TZID=America/New_York:20260315T080000
DTEND;TZID=America/New_York:20260315T120000
DTSTAMP:20260425T104316
CREATED:20260302T190316Z
LAST-MODIFIED:20260302T190321Z
UID:5336-1773561600-1773576000@vets.co.geauga.oh.us
SUMMARY:PANCAKE BREAKFAST - Chardon VFW Post #6519
DESCRIPTION:Location: 752 Water St.\, Chardon\, OH \nCost: $9.00 to $12.00
URL:https://vets.co.geauga.oh.us/event/pancake-breakfast-chardon-vfw-post-6519-2/
LOCATION:oh
END:VEVENT
BEGIN:VEVENT
DTSTART;TZID=America/New_York:20260315T090000
DTEND;TZID=America/New_York:20260315T130000
DTSTAMP:20260425T104316
CREATED:20260302T203646Z
LAST-MODIFIED:20260302T203652Z
UID:5350-1773565200-1773579600@vets.co.geauga.oh.us
SUMMARY:All-You-Can-Eat PANCAKE BREAKFAST - American Legion Post #459
DESCRIPTION:Location: 14052 Goodwin St.\, Burton\, OH \n  \nCost: Adults $10.00 & Kids (6-13yrs.) $5.00
URL:https://vets.co.geauga.oh.us/event/all-you-can-eat-pancake-breakfast-american-legion-post-459-3/
LOCATION:oh
END:VEVENT
BEGIN:VEVENT
DTSTART;TZID=America/New_York:20260317T183000
DTEND;TZID=America/New_York:20260317T193000
DTSTAMP:20260425T104316
CREATED:20260120T141323Z
LAST-MODIFIED:20260120T141328Z
UID:5290-1773772200-1773775800@vets.co.geauga.oh.us
SUMMARY:Middlefield VFW Post 9678 Meeting
DESCRIPTION:
URL:https://vets.co.geauga.oh.us/event/middlefield-vfw-post-9678-meeting-2/
LOCATION:oh
END:VEVENT
BEGIN:VEVENT
DTSTART;TZID=America/New_York:20260319T190000
DTEND;TZID=America/New_York:20260319T200000
DTSTAMP:20260425T104316
CREATED:20260108T203002Z
LAST-MODIFIED:20260108T203008Z
UID:5246-1773946800-1773950400@vets.co.geauga.oh.us
SUMMARY:Chardon American Legion Post 167 Meeting
DESCRIPTION:
URL:https://vets.co.geauga.oh.us/event/chardon-american-legion-post-167-meeting-3/
LOCATION:oh
END:VEVENT
BEGIN:VEVENT
DTSTART;TZID=America/New_York:20260322T080000
DTEND;TZID=America/New_York:20260322T120000
DTSTAMP:20260425T104316
CREATED:20260302T190530Z
LAST-MODIFIED:20260302T193620Z
UID:5338-1774166400-1774180800@vets.co.geauga.oh.us
SUMMARY:PANCAKE BREAKFAST - Chardon VFW Post #6519
DESCRIPTION:Location: 752 Water St.\, Chardon\, OH \nCost: $9.00 to $12.00
URL:https://vets.co.geauga.oh.us/event/pancake-breakfast-chardon-vfw-post-6519-3/
LOCATION:oh
END:VEVENT
BEGIN:VEVENT
DTSTART;TZID=America/New_York:20260322T090000
DTEND;TZID=America/New_York:20260322T130000
DTSTAMP:20260425T104316
CREATED:20260302T204846Z
LAST-MODIFIED:20260302T204851Z
UID:5352-1774170000-1774184400@vets.co.geauga.oh.us
SUMMARY:All-You-Can-Eat PANCAKE BREAKFAST - American Legion Post #459
DESCRIPTION:Location: 14052 Goodwin St.\, Burton\, OH \n  \nCost: Adults $10.00 & Kids (6-13yrs.) $5.00
URL:https://vets.co.geauga.oh.us/event/all-you-can-eat-pancake-breakfast-american-legion-post-459-4/
LOCATION:oh
END:VEVENT
BEGIN:VEVENT
DTSTART;TZID=America/New_York:20260329T080000
DTEND;TZID=America/New_York:20260329T120000
DTSTAMP:20260425T104316
CREATED:20260302T193835Z
LAST-MODIFIED:20260302T193840Z
UID:5340-1774771200-1774785600@vets.co.geauga.oh.us
SUMMARY:PANCAKE BREAKFAST - Chardon VFW Post #6519
DESCRIPTION:Location: 752 Water St.\, Chardon\, OH \nCost: $9.00 to $12.00
URL:https://vets.co.geauga.oh.us/event/pancake-breakfast-chardon-vfw-post-6519-4/
LOCATION:oh
END:VEVENT
BEGIN:VEVENT
DTSTART;TZID=America/New_York:20260329T090000
DTEND;TZID=America/New_York:20260329T130000
DTSTAMP:20260425T104316
CREATED:20260302T205113Z
LAST-MODIFIED:20260302T205119Z
UID:5354-1774774800-1774789200@vets.co.geauga.oh.us
SUMMARY:All-You-Can-Eat PANCAKE BREAKFAST - American Legion Post #459
DESCRIPTION:Location: 14052 Goodwin St.\, Burton\, OH \n  \nCost: Adults $10.00 & Kids (6-13yrs.) $5.00
URL:https://vets.co.geauga.oh.us/event/all-you-can-eat-pancake-breakfast-american-legion-post-459-5/
LOCATION:oh
END:VEVENT
BEGIN:VEVENT
DTSTART;TZID=America/New_York:20260402T190000
DTEND;TZID=America/New_York:20260402T200000
DTSTAMP:20260425T104316
CREATED:20260108T172334Z
LAST-MODIFIED:20260108T172339Z
UID:5172-1775156400-1775160000@vets.co.geauga.oh.us
SUMMARY:Chardon VFW Post 6519 Meeting
DESCRIPTION:
URL:https://vets.co.geauga.oh.us/event/chardon-vfw-post-6519-meeting-5/
LOCATION:oh
END:VEVENT
END:VCALENDAR