BEGIN:VCALENDAR
VERSION:2.0
PRODID:-//Geauga County Veterans Services - ECPv6.15.20//NONSGML v1.0//EN
CALSCALE:GREGORIAN
METHOD:PUBLISH
X-ORIGINAL-URL:https://vets.co.geauga.oh.us
X-WR-CALDESC:Events for Geauga County Veterans Services
REFRESH-INTERVAL;VALUE=DURATION:PT1H
X-Robots-Tag:noindex
X-PUBLISHED-TTL:PT1H
BEGIN:VTIMEZONE
TZID:America/New_York
BEGIN:DAYLIGHT
TZOFFSETFROM:-0500
TZOFFSETTO:-0400
TZNAME:EDT
DTSTART:20220313T070000
END:DAYLIGHT
BEGIN:STANDARD
TZOFFSETFROM:-0400
TZOFFSETTO:-0500
TZNAME:EST
DTSTART:20221106T060000
END:STANDARD
BEGIN:DAYLIGHT
TZOFFSETFROM:-0500
TZOFFSETTO:-0400
TZNAME:EDT
DTSTART:20230312T070000
END:DAYLIGHT
BEGIN:STANDARD
TZOFFSETFROM:-0400
TZOFFSETTO:-0500
TZNAME:EST
DTSTART:20231105T060000
END:STANDARD
BEGIN:DAYLIGHT
TZOFFSETFROM:-0500
TZOFFSETTO:-0400
TZNAME:EDT
DTSTART:20240310T070000
END:DAYLIGHT
BEGIN:STANDARD
TZOFFSETFROM:-0400
TZOFFSETTO:-0500
TZNAME:EST
DTSTART:20241103T060000
END:STANDARD
END:VTIMEZONE
BEGIN:VEVENT
DTSTART;VALUE=DATE:20231110
DTEND;VALUE=DATE:20231111
DTSTAMP:20260425T125235
CREATED:20231109T204325Z
LAST-MODIFIED:20231109T204519Z
UID:4535-1699574400-1699660799@vets.co.geauga.oh.us
SUMMARY:Office Closed
DESCRIPTION:The Veterans office will be closed on 11/10/2023 in observance of Veteran’s Day.
URL:https://vets.co.geauga.oh.us/event/office-closed-2/
LOCATION:Veterans Office\, 12611 Ravenwood Dr\, Chardon\, OH\, 44024\, United States
END:VEVENT
BEGIN:VEVENT
DTSTART;TZID=America/New_York:20231110T173000
DTEND;TZID=America/New_York:20231110T193000
DTSTAMP:20260425T125235
CREATED:20231108T200629Z
LAST-MODIFIED:20231108T200639Z
UID:4523-1699637400-1699644600@vets.co.geauga.oh.us
SUMMARY:November 10\, 2023\, Chardon VFW Veteran's and their family's dinner serving 5:30-7:30
DESCRIPTION:
URL:https://vets.co.geauga.oh.us/event/november-10-2023-chardon-vfw-veterans-and-their-familys-dinner-serving-530-730/
END:VEVENT
BEGIN:VEVENT
DTSTART;TZID=America/New_York:20231111T100000
DTEND;TZID=America/New_York:20231111T120000
DTSTAMP:20260425T125235
CREATED:20231108T202317Z
LAST-MODIFIED:20231108T202321Z
UID:4533-1699696800-1699704000@vets.co.geauga.oh.us
SUMMARY:Veterans Day Event on November 11th
DESCRIPTION:Located at 300 Short Court St at the steps to the courthouse.
URL:https://vets.co.geauga.oh.us/event/veterans-day-event-on-november-11th/
LOCATION:Veteran’s Day Event\, 100 Short Ct #300\, Chardon\, Oh\, 44024
END:VEVENT
BEGIN:VEVENT
DTSTART;TZID=America/New_York:20231111T163000
DTEND;TZID=America/New_York:20231111T190000
DTSTAMP:20260425T125235
CREATED:20231108T201849Z
LAST-MODIFIED:20231108T201853Z
UID:4531-1699720200-1699729200@vets.co.geauga.oh.us
SUMMARY:Burton American Legion Post #459
DESCRIPTION:Serving chili and soup and all the fixings for veterans and their families.
URL:https://vets.co.geauga.oh.us/event/burton-american-legion-post-459/
LOCATION:Burton American Legion Post #459\, 14052 Goodwin St\, Burton\, Oh\, 44021
END:VEVENT
BEGIN:VEVENT
DTSTART;TZID=America/New_York:20231122T080000
DTEND;TZID=America/New_York:20231122T170000
DTSTAMP:20260425T125235
CREATED:20231122T135619Z
LAST-MODIFIED:20231122T135625Z
UID:4540-1700640000-1700672400@vets.co.geauga.oh.us
SUMMARY:Office will be CLOSED at NOON today
DESCRIPTION:
URL:https://vets.co.geauga.oh.us/event/office-will-be-closed-at-noon-today/
END:VEVENT
BEGIN:VEVENT
DTSTART;VALUE=DATE:20231123
DTEND;VALUE=DATE:20231124
DTSTAMP:20260425T125235
CREATED:20231122T140004Z
LAST-MODIFIED:20231122T140504Z
UID:4542-1700697600-1700783999@vets.co.geauga.oh.us
SUMMARY:Happy Thanksgiving
DESCRIPTION:Office is closed
URL:https://vets.co.geauga.oh.us/event/happy-thanksgiving/
END:VEVENT
BEGIN:VEVENT
DTSTART;VALUE=DATE:20231124
DTEND;VALUE=DATE:20231125
DTSTAMP:20260425T125235
CREATED:20231122T140152Z
LAST-MODIFIED:20231122T140355Z
UID:4544-1700784000-1700870399@vets.co.geauga.oh.us
SUMMARY:Office is closed
DESCRIPTION:will reopen Monday 27th normal hours 8:00 am to 4:00pm Monday thru Friday
URL:https://vets.co.geauga.oh.us/event/office-is-closed/
END:VEVENT
END:VCALENDAR