BEGIN:VCALENDAR
VERSION:2.0
PRODID:-//Geauga County Veterans Services - ECPv6.15.20//NONSGML v1.0//EN
CALSCALE:GREGORIAN
METHOD:PUBLISH
X-ORIGINAL-URL:https://vets.co.geauga.oh.us
X-WR-CALDESC:Events for Geauga County Veterans Services
REFRESH-INTERVAL;VALUE=DURATION:PT1H
X-Robots-Tag:noindex
X-PUBLISHED-TTL:PT1H
BEGIN:VTIMEZONE
TZID:America/New_York
BEGIN:DAYLIGHT
TZOFFSETFROM:-0500
TZOFFSETTO:-0400
TZNAME:EDT
DTSTART:20220313T070000
END:DAYLIGHT
BEGIN:STANDARD
TZOFFSETFROM:-0400
TZOFFSETTO:-0500
TZNAME:EST
DTSTART:20221106T060000
END:STANDARD
BEGIN:DAYLIGHT
TZOFFSETFROM:-0500
TZOFFSETTO:-0400
TZNAME:EDT
DTSTART:20230312T070000
END:DAYLIGHT
BEGIN:STANDARD
TZOFFSETFROM:-0400
TZOFFSETTO:-0500
TZNAME:EST
DTSTART:20231105T060000
END:STANDARD
BEGIN:DAYLIGHT
TZOFFSETFROM:-0500
TZOFFSETTO:-0400
TZNAME:EDT
DTSTART:20240310T070000
END:DAYLIGHT
BEGIN:STANDARD
TZOFFSETFROM:-0400
TZOFFSETTO:-0500
TZNAME:EST
DTSTART:20241103T060000
END:STANDARD
END:VTIMEZONE
BEGIN:VEVENT
DTSTART;TZID=America/New_York:20231205T150000
DTEND;TZID=America/New_York:20231205T160000
DTSTAMP:20260425T112014
CREATED:20231122T143223Z
LAST-MODIFIED:20231122T143229Z
UID:4550-1701788400-1701792000@vets.co.geauga.oh.us
SUMMARY:Veteran's Commissioner Meeting
DESCRIPTION:Meeting is on the first Tuesday of each month.
URL:https://vets.co.geauga.oh.us/event/veterans-commissioner-meeting/
LOCATION:Veterans Office\, 12611 Ravenwood Dr\, Chardon\, OH\, 44024\, United States
END:VEVENT
BEGIN:VEVENT
DTSTART;TZID=America/New_York:20231205T150000
DTEND;TZID=America/New_York:20231205T160000
DTSTAMP:20260425T112014
CREATED:20231205T080020Z
LAST-MODIFIED:20231122T142908Z
UID:4548-1701788400-1701792000@vets.co.geauga.oh.us
SUMMARY:Veterans Commissioners Meeting
DESCRIPTION:meeting is at 3:00 pm the first Tuesday of every month.
URL:https://vets.co.geauga.oh.us/event/veterans-commissioners-meeting/
LOCATION:Veterans Office\, 12611 Ravenwood Dr\, Chardon\, OH\, 44024\, United States
END:VEVENT
BEGIN:VEVENT
DTSTART;TZID=America/New_York:20231221T150000
DTEND;TZID=America/New_York:20231221T160000
DTSTAMP:20260425T112014
CREATED:20231218T133726Z
LAST-MODIFIED:20231218T133731Z
UID:4575-1703170800-1703174400@vets.co.geauga.oh.us
SUMMARY:Special Meeting
DESCRIPTION:
URL:https://vets.co.geauga.oh.us/event/special-meeting/
END:VEVENT
BEGIN:VEVENT
DTSTART;VALUE=DATE:20231225
DTEND;VALUE=DATE:20231226
DTSTAMP:20260425T112014
CREATED:20231122T145543Z
LAST-MODIFIED:20231122T145547Z
UID:4568-1703462400-1703548799@vets.co.geauga.oh.us
SUMMARY:Merry Christmas
DESCRIPTION:Office is closed.
URL:https://vets.co.geauga.oh.us/event/merry-christmas/
LOCATION:Veterans Office\, 12611 Ravenwood Dr\, Chardon\, OH\, 44024\, United States
END:VEVENT
BEGIN:VEVENT
DTSTART;VALUE=DATE:20231226
DTEND;VALUE=DATE:20231227
DTSTAMP:20260425T112014
CREATED:20231122T145843Z
LAST-MODIFIED:20231122T150302Z
UID:4570-1703548800-1703635199@vets.co.geauga.oh.us
SUMMARY:Office is Closed
DESCRIPTION:Office is CLOSED \nWill reopen Monday December 7th normal business hours.
URL:https://vets.co.geauga.oh.us/event/4570/
LOCATION:Veterans Office\, 12611 Ravenwood Dr\, Chardon\, OH\, 44024\, United States
END:VEVENT
END:VCALENDAR