BEGIN:VCALENDAR
VERSION:2.0
PRODID:-//Geauga County Veterans Services - ECPv6.15.20//NONSGML v1.0//EN
CALSCALE:GREGORIAN
METHOD:PUBLISH
X-WR-CALNAME:Geauga County Veterans Services
X-ORIGINAL-URL:https://vets.co.geauga.oh.us
X-WR-CALDESC:Events for Geauga County Veterans Services
REFRESH-INTERVAL;VALUE=DURATION:PT1H
X-Robots-Tag:noindex
X-PUBLISHED-TTL:PT1H
BEGIN:VTIMEZONE
TZID:America/New_York
BEGIN:DAYLIGHT
TZOFFSETFROM:-0500
TZOFFSETTO:-0400
TZNAME:EDT
DTSTART:20250309T070000
END:DAYLIGHT
BEGIN:STANDARD
TZOFFSETFROM:-0400
TZOFFSETTO:-0500
TZNAME:EST
DTSTART:20251102T060000
END:STANDARD
BEGIN:DAYLIGHT
TZOFFSETFROM:-0500
TZOFFSETTO:-0400
TZNAME:EDT
DTSTART:20260308T070000
END:DAYLIGHT
BEGIN:STANDARD
TZOFFSETFROM:-0400
TZOFFSETTO:-0500
TZNAME:EST
DTSTART:20261101T060000
END:STANDARD
BEGIN:DAYLIGHT
TZOFFSETFROM:-0500
TZOFFSETTO:-0400
TZNAME:EDT
DTSTART:20270314T070000
END:DAYLIGHT
BEGIN:STANDARD
TZOFFSETFROM:-0400
TZOFFSETTO:-0500
TZNAME:EST
DTSTART:20271107T060000
END:STANDARD
END:VTIMEZONE
BEGIN:VEVENT
DTSTART;TZID=America/New_York:20260505T150000
DTEND;TZID=America/New_York:20260505T160000
DTSTAMP:20260423T224537
CREATED:20260108T154601Z
LAST-MODIFIED:20260108T154612Z
UID:5145-1777993200-1777996800@vets.co.geauga.oh.us
SUMMARY:Veterans Service Commission Meeting
DESCRIPTION:
URL:https://vets.co.geauga.oh.us/event/veterans-service-commission-meeting-14/
END:VEVENT
BEGIN:VEVENT
DTSTART;TZID=America/New_York:20260507T190000
DTEND;TZID=America/New_York:20260507T200000
DTSTAMP:20260423T224537
CREATED:20260108T173611Z
LAST-MODIFIED:20260108T173618Z
UID:5174-1778180400-1778184000@vets.co.geauga.oh.us
SUMMARY:Chardon VFW Post 6519 Meeting
DESCRIPTION:
URL:https://vets.co.geauga.oh.us/event/chardon-vfw-post-6519-meeting-6/
END:VEVENT
BEGIN:VEVENT
DTSTART;TZID=America/New_York:20260511T193000
DTEND;TZID=America/New_York:20260511T203000
DTSTAMP:20260423T224537
CREATED:20260108T201122Z
LAST-MODIFIED:20260108T201127Z
UID:5225-1778527800-1778531400@vets.co.geauga.oh.us
SUMMARY:Newbury American Legion Post 633 Meeting
DESCRIPTION:
URL:https://vets.co.geauga.oh.us/event/newbury-american-legion-post-633-meeting-21/
END:VEVENT
BEGIN:VEVENT
DTSTART;TZID=America/New_York:20260512T193000
DTEND;TZID=America/New_York:20260512T203000
DTSTAMP:20260423T224537
CREATED:20260108T195028Z
LAST-MODIFIED:20260108T195113Z
UID:5200-1778614200-1778617800@vets.co.geauga.oh.us
SUMMARY:Burton American Legion Post 459 Meeting
DESCRIPTION:
URL:https://vets.co.geauga.oh.us/event/burton-american-legion-post-459-meeting-11/
END:VEVENT
BEGIN:VEVENT
DTSTART;TZID=America/New_York:20260519T183000
DTEND;TZID=America/New_York:20260519T193000
DTSTAMP:20260423T224537
CREATED:20260120T141646Z
LAST-MODIFIED:20260120T141653Z
UID:5294-1779215400-1779219000@vets.co.geauga.oh.us
SUMMARY:Middlefield VFW Post 9678 Meeting
DESCRIPTION:
URL:https://vets.co.geauga.oh.us/event/middlefield-vfw-post-9678-meeting-4/
END:VEVENT
BEGIN:VEVENT
DTSTART;TZID=America/New_York:20260521T190000
DTEND;TZID=America/New_York:20260521T200000
DTSTAMP:20260423T224537
CREATED:20260108T203159Z
LAST-MODIFIED:20260108T203206Z
UID:5250-1779390000-1779393600@vets.co.geauga.oh.us
SUMMARY:Chardon American Legion Post 167 Meeting
DESCRIPTION:
URL:https://vets.co.geauga.oh.us/event/chardon-american-legion-post-167-meeting-5/
END:VEVENT
BEGIN:VEVENT
DTSTART;VALUE=DATE:20260525
DTEND;VALUE=DATE:20260526
DTSTAMP:20260423T224537
CREATED:20260109T155915Z
LAST-MODIFIED:20260109T155921Z
UID:5273-1779667200-1779753599@vets.co.geauga.oh.us
SUMMARY:Holiday Office Closed
DESCRIPTION:In observerance for Memorial Day
URL:https://vets.co.geauga.oh.us/event/holiday-office-closed-4/
END:VEVENT
END:VCALENDAR