BEGIN:VCALENDAR
VERSION:2.0
PRODID:-//Geauga County Veterans Services - ECPv6.15.20//NONSGML v1.0//EN
CALSCALE:GREGORIAN
METHOD:PUBLISH
X-WR-CALNAME:Geauga County Veterans Services
X-ORIGINAL-URL:https://vets.co.geauga.oh.us
X-WR-CALDESC:Events for Geauga County Veterans Services
REFRESH-INTERVAL;VALUE=DURATION:PT1H
X-Robots-Tag:noindex
X-PUBLISHED-TTL:PT1H
BEGIN:VTIMEZONE
TZID:America/New_York
BEGIN:DAYLIGHT
TZOFFSETFROM:-0500
TZOFFSETTO:-0400
TZNAME:EDT
DTSTART:20250309T070000
END:DAYLIGHT
BEGIN:STANDARD
TZOFFSETFROM:-0400
TZOFFSETTO:-0500
TZNAME:EST
DTSTART:20251102T060000
END:STANDARD
BEGIN:DAYLIGHT
TZOFFSETFROM:-0500
TZOFFSETTO:-0400
TZNAME:EDT
DTSTART:20260308T070000
END:DAYLIGHT
BEGIN:STANDARD
TZOFFSETFROM:-0400
TZOFFSETTO:-0500
TZNAME:EST
DTSTART:20261101T060000
END:STANDARD
BEGIN:DAYLIGHT
TZOFFSETFROM:-0500
TZOFFSETTO:-0400
TZNAME:EDT
DTSTART:20270314T070000
END:DAYLIGHT
BEGIN:STANDARD
TZOFFSETFROM:-0400
TZOFFSETTO:-0500
TZNAME:EST
DTSTART:20271107T060000
END:STANDARD
END:VTIMEZONE
BEGIN:VEVENT
DTSTART;TZID=America/New_York:20260602T150000
DTEND;TZID=America/New_York:20260602T160000
DTSTAMP:20260423T235140
CREATED:20260108T154749Z
LAST-MODIFIED:20260108T154755Z
UID:5147-1780412400-1780416000@vets.co.geauga.oh.us
SUMMARY:Veterans Service Commission Meeting
DESCRIPTION:
URL:https://vets.co.geauga.oh.us/event/veterans-service-commission-meeting-15/
END:VEVENT
BEGIN:VEVENT
DTSTART;TZID=America/New_York:20260604T190000
DTEND;TZID=America/New_York:20260604T200000
DTSTAMP:20260423T235140
CREATED:20260108T174554Z
LAST-MODIFIED:20260108T174603Z
UID:5176-1780599600-1780603200@vets.co.geauga.oh.us
SUMMARY:Chardon VFW Post 6519 Meeting
DESCRIPTION:
URL:https://vets.co.geauga.oh.us/event/chardon-vfw-post-6519-meeting-7/
END:VEVENT
BEGIN:VEVENT
DTSTART;TZID=America/New_York:20260608T193000
DTEND;TZID=America/New_York:20260608T203000
DTSTAMP:20260423T235140
CREATED:20260108T201233Z
LAST-MODIFIED:20260108T201238Z
UID:5227-1780947000-1780950600@vets.co.geauga.oh.us
SUMMARY:Newbury American Legion Post 633 Meeting
DESCRIPTION:
URL:https://vets.co.geauga.oh.us/event/newbury-american-legion-post-633-meeting-22/
END:VEVENT
BEGIN:VEVENT
DTSTART;TZID=America/New_York:20260609T193000
DTEND;TZID=America/New_York:20260609T203000
DTSTAMP:20260423T235140
CREATED:20260108T195703Z
LAST-MODIFIED:20260108T195708Z
UID:5202-1781033400-1781037000@vets.co.geauga.oh.us
SUMMARY:Burton American Legion Post 459 Meeting
DESCRIPTION:
URL:https://vets.co.geauga.oh.us/event/burton-american-legion-post-459-meeting-12/
END:VEVENT
BEGIN:VEVENT
DTSTART;TZID=America/New_York:20260616T183000
DTEND;TZID=America/New_York:20260616T193000
DTSTAMP:20260423T235140
CREATED:20260120T141809Z
LAST-MODIFIED:20260120T141816Z
UID:5296-1781634600-1781638200@vets.co.geauga.oh.us
SUMMARY:Middlefield VFW Post 9678 Meeting
DESCRIPTION:
URL:https://vets.co.geauga.oh.us/event/middlefield-vfw-post-9678-meeting-5/
END:VEVENT
BEGIN:VEVENT
DTSTART;TZID=America/New_York:20260618T190000
DTEND;TZID=America/New_York:20260618T200000
DTSTAMP:20260423T235140
CREATED:20260108T203307Z
LAST-MODIFIED:20260108T203313Z
UID:5252-1781809200-1781812800@vets.co.geauga.oh.us
SUMMARY:Chardon American Legion Post 167 Meeting
DESCRIPTION:
URL:https://vets.co.geauga.oh.us/event/chardon-american-legion-post-167-meeting-6/
END:VEVENT
BEGIN:VEVENT
DTSTART;VALUE=DATE:20260619
DTEND;VALUE=DATE:20260620
DTSTAMP:20260423T235140
CREATED:20260109T161053Z
LAST-MODIFIED:20260109T161059Z
UID:5275-1781827200-1781913599@vets.co.geauga.oh.us
SUMMARY:Holiday Office Closed
DESCRIPTION:In observerance for Juneteenth
URL:https://vets.co.geauga.oh.us/event/holiday-office-closed-5/
END:VEVENT
END:VCALENDAR