BEGIN:VCALENDAR
VERSION:2.0
PRODID:-//Geauga County Veterans Services - ECPv6.15.20//NONSGML v1.0//EN
CALSCALE:GREGORIAN
METHOD:PUBLISH
X-ORIGINAL-URL:https://vets.co.geauga.oh.us
X-WR-CALDESC:Events for Geauga County Veterans Services
REFRESH-INTERVAL;VALUE=DURATION:PT1H
X-Robots-Tag:noindex
X-PUBLISHED-TTL:PT1H
BEGIN:VTIMEZONE
TZID:America/New_York
BEGIN:DAYLIGHT
TZOFFSETFROM:-0500
TZOFFSETTO:-0400
TZNAME:EDT
DTSTART:20250309T070000
END:DAYLIGHT
BEGIN:STANDARD
TZOFFSETFROM:-0400
TZOFFSETTO:-0500
TZNAME:EST
DTSTART:20251102T060000
END:STANDARD
BEGIN:DAYLIGHT
TZOFFSETFROM:-0500
TZOFFSETTO:-0400
TZNAME:EDT
DTSTART:20260308T070000
END:DAYLIGHT
BEGIN:STANDARD
TZOFFSETFROM:-0400
TZOFFSETTO:-0500
TZNAME:EST
DTSTART:20261101T060000
END:STANDARD
BEGIN:DAYLIGHT
TZOFFSETFROM:-0500
TZOFFSETTO:-0400
TZNAME:EDT
DTSTART:20270314T070000
END:DAYLIGHT
BEGIN:STANDARD
TZOFFSETFROM:-0400
TZOFFSETTO:-0500
TZNAME:EST
DTSTART:20271107T060000
END:STANDARD
END:VTIMEZONE
BEGIN:VEVENT
DTSTART;TZID=America/New_York:20260702T190000
DTEND;TZID=America/New_York:20260702T200000
DTSTAMP:20260424T010448
CREATED:20260108T174727Z
LAST-MODIFIED:20260108T174732Z
UID:5178-1783018800-1783022400@vets.co.geauga.oh.us
SUMMARY:Chardon VFW Post 6519 Meeting
DESCRIPTION:
URL:https://vets.co.geauga.oh.us/event/chardon-vfw-post-6519-meeting-8/
END:VEVENT
BEGIN:VEVENT
DTSTART;TZID=America/New_York:20260707T150000
DTEND;TZID=America/New_York:20260707T160000
DTSTAMP:20260424T010448
CREATED:20260108T154909Z
LAST-MODIFIED:20260108T154914Z
UID:5149-1783436400-1783440000@vets.co.geauga.oh.us
SUMMARY:Veterans Service Commission Meeting
DESCRIPTION:
URL:https://vets.co.geauga.oh.us/event/veterans-service-commission-meeting-16/
END:VEVENT
BEGIN:VEVENT
DTSTART;TZID=America/New_York:20260713T193000
DTEND;TZID=America/New_York:20260713T203000
DTSTAMP:20260424T010448
CREATED:20260108T201430Z
LAST-MODIFIED:20260108T201436Z
UID:5230-1783971000-1783974600@vets.co.geauga.oh.us
SUMMARY:Newbury American Legion Post 633 Meeting
DESCRIPTION:
URL:https://vets.co.geauga.oh.us/event/newbury-american-legion-post-633-meeting-23/
END:VEVENT
BEGIN:VEVENT
DTSTART;TZID=America/New_York:20260714T193000
DTEND;TZID=America/New_York:20260714T203000
DTSTAMP:20260424T010448
CREATED:20260108T195859Z
LAST-MODIFIED:20260108T195906Z
UID:5204-1784057400-1784061000@vets.co.geauga.oh.us
SUMMARY:Burton American Legion Post 459 Meeting
DESCRIPTION:
URL:https://vets.co.geauga.oh.us/event/burton-american-legion-post-459-meeting-13/
END:VEVENT
BEGIN:VEVENT
DTSTART;TZID=America/New_York:20260716T190000
DTEND;TZID=America/New_York:20260716T200000
DTSTAMP:20260424T010448
CREATED:20260108T203442Z
LAST-MODIFIED:20260108T203455Z
UID:5254-1784228400-1784232000@vets.co.geauga.oh.us
SUMMARY:Chardon American Legion Post 167 Meeting
DESCRIPTION:
URL:https://vets.co.geauga.oh.us/event/chardon-american-legion-post-167-meeting-7/
END:VEVENT
BEGIN:VEVENT
DTSTART;TZID=America/New_York:20260721T183000
DTEND;TZID=America/New_York:20260721T193000
DTSTAMP:20260424T010448
CREATED:20260120T141941Z
LAST-MODIFIED:20260120T141946Z
UID:5298-1784658600-1784662200@vets.co.geauga.oh.us
SUMMARY:Middlefield VFW Post 9678 Meeting
DESCRIPTION:
URL:https://vets.co.geauga.oh.us/event/middlefield-vfw-post-9678-meeting-6/
END:VEVENT
END:VCALENDAR